BEGIN:VCALENDAR
VERSION:2.0
PRODID:-//wp-events-plugin.com//7.2.3.1//EN
TZID:Europe/Amsterdam
X-WR-TIMEZONE:Europe/Amsterdam
BEGIN:VEVENT
UID:171@duurzaam-beleggen.nl
DTSTART;TZID=Europe/Amsterdam:20220607T200000
DTEND;TZID=Europe/Amsterdam:20220607T210000
DTSTAMP:20220523T061053Z
URL:https://www.duurzaam-beleggen.nl/events/actualiteiten-webinar-van-stan
 wende/
SUMMARY:Actualiteiten-webinar van Stan&Wende
DESCRIPTION:De hoogste tijd voor een actualiteiten-webinar van Stan&amp\;We
 nde!\n\nDit webinar geven we op dinsdag 7 juni om 20.00 uur.\n\nDe volgen
 de onderwerpen staan dan zeker op de agenda:\n\n 	De toestand in de wereld
 .\n 	Wat gebeurt er met de rente en de aandelenkoersen?\n 	Wat betekent di
 t voor duurzame beleggingen?\n\nBelangrijke onderwerpen dus\, ook voor jo
 u als duurzame belegger.\nDaarom zijn we heel blij dat we deze avond een 
 hele goede gastspreker hebben: Stephan Langen van ASN. Hij beheert daar
  meerdere duurzame fondsen en kan ons daarom heel goed meenemen in de ontw
 ikkelingen en vooruitzichten op de beurzen!\n\nGratis aanmelden
ATTACH;FMTTYPE=image/jpeg:https://www.duurzaam-beleggen.nl/wordpress/wp-co
 ntent/uploads/2020/02/stan.jpg
CATEGORIES:Consument/Particulier
LOCATION:Webinar\, nvt\, Online\, Nederland
X-APPLE-STRUCTURED-LOCATION;VALUE=URI;X-ADDRESS=nvt\, Online\, Nederland;X-
 APPLE-RADIUS=100;X-TITLE=Webinar:geo:0,0
END:VEVENT
BEGIN:VTIMEZONE
TZID:Europe/Amsterdam
X-LIC-LOCATION:Europe/Amsterdam
BEGIN:DAYLIGHT
DTSTART:20220327T030000
TZOFFSETFROM:+0100
TZOFFSETTO:+0200
TZNAME:CEST
END:DAYLIGHT
END:VTIMEZONE
END:VCALENDAR