BEGIN:VCALENDAR
VERSION:2.0
PRODID:-//wp-events-plugin.com//7.2.3.1//EN
TZID:Europe/Amsterdam
X-WR-TIMEZONE:Europe/Amsterdam
BEGIN:VEVENT
UID:173@duurzaam-beleggen.nl
DTSTART;TZID=Europe/Amsterdam:20221104T090000
DTEND;TZID=Europe/Amsterdam:20221104T170000
DTSTAMP:20220824T120810Z
URL:https://www.duurzaam-beleggen.nl/events/beleggersfair-2022/
SUMMARY:BeleggersFair 2022
DESCRIPTION:De BeleggersFair is het grootste beleggersevenement in Nederlan
 d en biedt een divers en breed programma en is daarmee een uitstekende inv
 estering voor zowel gevorderde als beginnende particuliere beleggers die z
 owel hun kennis als hun vermogen willen vergroten.\n\nDaarnaast kunnen zow
 el beginnende als gevorderde beleggers plenaire sessies\, masterclasses en
  snelcursussen bijwonen om hun kennis bij te schaven of te verbreden. Bele
 ggers die de smaak goed te pakken hebben\, kunnen tijdens een wandeling ov
 er de beursvloer in contact komen met vele banken\, vermogensbeheerders en
  adviseurs. Gedurende de dag delen bekende financiële goeroes hun Gouden 
 Tips voor het komende jaar met de bezoekers.\n\nPortaal Duurzaam Financiee
 l is weer mediapartner van het event en daarom kun lezers zich gratis aanm
 elden\n\nMeer informatie\n\n&nbsp\;
ATTACH;FMTTYPE=image/jpeg:https://www.duurzaam-beleggen.nl/wordpress/wp-co
 ntent/uploads/2022/06/beleggersfair2022.jpg
CATEGORIES:Consument/Particulier,Professional/Bedrijf
LOCATION:Beurs van Berlage\, Damrak\, Amsterdam\, Netherlands\, 1012 ZJ\, N
 ederland
GEO:52.3754268;4.896190299999944
X-APPLE-STRUCTURED-LOCATION;VALUE=URI;X-ADDRESS=Damrak\, Amsterdam\, Nether
 lands\, 1012 ZJ\, Nederland;X-APPLE-RADIUS=100;X-TITLE=Beurs van Berlage:g
 eo:52.3754268,4.896190299999944
END:VEVENT
BEGIN:VTIMEZONE
TZID:Europe/Amsterdam
X-LIC-LOCATION:Europe/Amsterdam
BEGIN:STANDARD
DTSTART:20221030T020000
TZOFFSETFROM:+0200
TZOFFSETTO:+0100
TZNAME:CET
END:STANDARD
END:VTIMEZONE
END:VCALENDAR