BEGIN:VCALENDAR
VERSION:2.0
PRODID:-//wp-events-plugin.com//7.2.3.1//EN
TZID:Europe/Amsterdam
X-WR-TIMEZONE:Europe/Amsterdam
BEGIN:VEVENT
UID:233@duurzaam-beleggen.nl
DTSTART;TZID=Europe/Amsterdam:20251107T090000
DTEND;TZID=Europe/Amsterdam:20251107T170000
DTSTAMP:20250628T090424Z
URL:https://www.duurzaam-beleggen.nl/events/beleggersfair-2025/
SUMMARY:BeleggersFair 2025!
DESCRIPTION:Mis het niet! Op vrijdag 7 november 2025 vindt de BeleggersFair
  weer plaats in de Beurs van Berlage te Amsterdam — De BeleggersFair is 
 hét event voor de beginnende en de gevorderde belegger!\nWaarom u erbij m
 oet zijn:\nDe BeleggersFair biedt dit 11e jaar een nog gevarieerder progra
 mma vol kansen en nieuwe inzichten.\n\nNaast het informatieve plenaire ged
 eelte onder leiding van dagvoorzitter Donatello Piras kunt u ook verschill
 ende masterclasses\, Gouden Tips\, talkshows en snelcursussen volgen\, ter
 wijl u op de beursvloer alle belangrijkste spelers uit de beleggerswereld 
 ontmoet. De  diverse sessies en experts helpen u om uw kennis te verdiepe
 n en uw portefeuille te laten groeien.\nGratis ticket\nAls mediapartner va
 n de BeleggersFair mogen wij u een gratis ticket aanbieden (normaal € 30
 \,-).   Zet 7 november alvast in uw agenda en bestel uw ticket vandaag n
 og via deze link.
ATTACH;FMTTYPE=image/jpeg:https://www.duurzaam-beleggen.nl/wordpress/wp-co
 ntent/uploads/2025/06/Afbeelding-bij-mailing-of-nieuwsbericht.jpg
CATEGORIES:Consument/Particulier,Professional/Bedrijf
LOCATION:Beurs van Berlage\, Damrak\, Amsterdam\, Netherlands\, 1012 ZJ\, N
 ederland
GEO:52.3754268;4.896190299999944
X-APPLE-STRUCTURED-LOCATION;VALUE=URI;X-ADDRESS=Damrak\, Amsterdam\, Nether
 lands\, 1012 ZJ\, Nederland;X-APPLE-RADIUS=100;X-TITLE=Beurs van Berlage:g
 eo:52.3754268,4.896190299999944
END:VEVENT
BEGIN:VTIMEZONE
TZID:Europe/Amsterdam
X-LIC-LOCATION:Europe/Amsterdam
BEGIN:STANDARD
DTSTART:20251026T020000
TZOFFSETFROM:+0200
TZOFFSETTO:+0100
TZNAME:CET
END:STANDARD
END:VTIMEZONE
END:VCALENDAR