BEGIN:VCALENDAR
VERSION:2.0
PRODID:-//wp-events-plugin.com//7.2.3.1//EN
TZID:Europe/Amsterdam
X-WR-TIMEZONE:Europe/Amsterdam
BEGIN:VEVENT
UID:217@duurzaam-beleggen.nl
DTSTART;TZID=Europe/Amsterdam:20241115T100000
DTEND;TZID=Europe/Amsterdam:20241115T170000
DTSTAMP:20240530T063242Z
URL:https://www.duurzaam-beleggen.nl/events/beleggersfair/
SUMMARY:10e BeleggersFair
DESCRIPTION:Op vrijdag 15 november vindt de alweer 10e editie plaats van de
  BeleggersFair. Ook dit jaar vertellen tientallen beleggingsexperts alles 
 over rendabele investeringsinitiatieven en delen hun Gouden Tips met u.\n\
 n\n\nDe BeleggersFair is het grootste beleggersevenement in Nederland en b
 iedt een divers en breed programma en is daarmee een uitstekende investeri
 ng voor zowel gevorderde als beginnende particuliere beleggers die zowel h
 un kennis als hun vermogen willen vergroten. Daarnaast kunnen zowel beginn
 ende als gevorderde beleggers plenaire sessies\, masterclasses en snelcurs
 ussen bijwonen om hun kennis bij te schaven of te verbreden. Beleggers die
  de smaak goed te pakken hebben\, kunnen tijdens een wandeling over de beu
 rsvloer in contact komen met vele banken\, vermogensbeheerders en adviseur
 s. Gedurende de dag delen bekende financiële goeroes hun Gouden Tips voor
  het komende jaar met de bezoekers.\n\nBestel nu alvast uw ticket!
ATTACH;FMTTYPE=image/jpeg:https://www.duurzaam-beleggen.nl/wordpress/wp-co
 ntent/uploads/2024/05/bf2024_sm_1200x628_saveTheDate.gif
CATEGORIES:Consument/Particulier,Professional/Bedrijf
LOCATION:Beurs van Berlage\, Damrak\, Amsterdam\, Netherlands\, 1012 ZJ\, N
 ederland
GEO:52.3754268;4.896190299999944
X-APPLE-STRUCTURED-LOCATION;VALUE=URI;X-ADDRESS=Damrak\, Amsterdam\, Nether
 lands\, 1012 ZJ\, Nederland;X-APPLE-RADIUS=100;X-TITLE=Beurs van Berlage:g
 eo:52.3754268,4.896190299999944
END:VEVENT
BEGIN:VTIMEZONE
TZID:Europe/Amsterdam
X-LIC-LOCATION:Europe/Amsterdam
BEGIN:STANDARD
DTSTART:20241027T020000
TZOFFSETFROM:+0200
TZOFFSETTO:+0100
TZNAME:CET
END:STANDARD
END:VTIMEZONE
END:VCALENDAR