BEGIN:VCALENDAR
VERSION:2.0
PRODID:-//wp-events-plugin.com//7.2.3.1//EN
TZID:Europe/Amsterdam
X-WR-TIMEZONE:Europe/Amsterdam
BEGIN:VEVENT
UID:234@duurzaam-beleggen.nl
DTSTART;TZID=Europe/Amsterdam:20250915T200000
DTEND;TZID=Europe/Amsterdam:20250915T210000
DTSTAMP:20250730T132728Z
URL:https://www.duurzaam-beleggen.nl/events/cfp-webinar-wat-is-nu-echt-duu
 rzaam-beleggen-en-wat-echt-niet/
SUMMARY:CFP webinar 'Wat is nu echt duurzaam beleggen? En wat echt niet…'
DESCRIPTION:Wat is nu echt duurzaam beleggen? En wat echt niet…\nHubrien 
 en Wouter van Stan &amp\; Wende gaan je meenemen in hetgeen wel\, een beet
 je en niet duurzaam beleggen is. Door meer grip te krijgen op deze materie
  kan jij je relaties beter informeren.\n\nZij zullen dit doen vanuit de vo
 lgende invalshoeken:\n\n 	EU wetgeving\n 	Uitsluiten\, best in class\, eng
 agement\, index of actief\, financieel rendement\n 	SDG’s\n 	CO2-data\n\
 nUiteraard met concrete voorbeelden en tastbare resultaten.\n\nDit is een 
 PE-webinar voor FFP/CFP gecertificeerde financieel planners.\nHubrien Meij
 aard en Wouter van Leusen\nHubrien en Wouter zijn de enthousiaste partners
  van Stan&amp\;Wende\, een beleggingsonderneming van duurzame beleggingen.
  Stan&amp\;Wende wil de meest duurzame en sociale belegger zijn met een ve
 rgelijkbaar rendement als traditionele beleggingen. Zij beleggen daarom in
  fondsen die 100% ‘donkergroen’ zijn. Beide zijn Financial Life Planne
 r.\n\nMeer weten over dit onderwerp? Meld je dan nu kosteloos aan voor dit
  webinar op 15 september 2025 (starttijd: 20:00 uur). Mis het niet!\n\nDe 
 PE-punten voor RB en NOAB worden aangevraagd\n\nAanmelden
ATTACH;FMTTYPE=image/jpeg:https://www.duurzaam-beleggen.nl/wordpress/wp-co
 ntent/uploads/2025/03/geld_new.jpg
CATEGORIES:Professional/Bedrijf
LOCATION:Webinar\, nvt\, Online\, Nederland
X-APPLE-STRUCTURED-LOCATION;VALUE=URI;X-ADDRESS=nvt\, Online\, Nederland;X-
 APPLE-RADIUS=100;X-TITLE=Webinar:geo:0,0
END:VEVENT
BEGIN:VTIMEZONE
TZID:Europe/Amsterdam
X-LIC-LOCATION:Europe/Amsterdam
BEGIN:DAYLIGHT
DTSTART:20250330T030000
TZOFFSETFROM:+0100
TZOFFSETTO:+0200
TZNAME:CEST
END:DAYLIGHT
END:VTIMEZONE
END:VCALENDAR