BEGIN:VCALENDAR
VERSION:2.0
PRODID:-//wp-events-plugin.com//7.2.3.1//EN
TZID:Europe/Amsterdam
X-WR-TIMEZONE:Europe/Amsterdam
BEGIN:VEVENT
UID:230@duurzaam-beleggen.nl
DTSTART;TZID=Europe/Amsterdam:20250521T150000
DTEND;TZID=Europe/Amsterdam:20250521T170000
DTSTAMP:20250424T120133Z
URL:https://www.duurzaam-beleggen.nl/events/climate-engagement-seminar-202
 5/
SUMMARY:Climate Engagement Seminar 2025
DESCRIPTION:Join us in Zeist for VBDO’s Climate Engagement Seminar\, supp
 orted by Legal &amp\; General Asset Management.​\n\nThis seminar address
 es the pressing challenges investors face in driving genuine climate actio
 n through engagement. We’ll explore why traditional approaches often fal
 l short and how to overcome barriers.\n\nGain Keynote Insights from expert
 s: Nick Stansbury\, Head of Climate Solutions at Legal &amp\; General\, Ro
 sienne Steensma\, Security\, Health &amp\; Environment at VNCI\, Christine
  Wortmann\, Nature &amp\; Finance Lead at Wereld Natuur Fonds (WWF-NL) and
  Frank Wagemans\, Senior Engagement Specialist at Achmea Investment Manage
 ment.\n\n 	Panel Discussion featuring all speakers\, moderated by VBDO.\n 
 	Networking Drinks to connect with peers and experts.​\n\nProgramme\n\n 
 	15:00 | Welcome &amp\; introduction | Angelique Laskewitz\, directeur V
 BDO\n 	15:10 | Expert keynotes on Climate Engagement\, by:\n\n 	Nick Stans
 bury\, Head of Climate Solutions\, Investments at L&amp\;G\n 	Rosienne Ste
 ensma\, Security\, Health &amp\; Environment at Koninklijke Vereniging van
  de Nederlandse Chemische Industrie (VNCI)\n 	Christine Wortmann\, Nature 
 &amp\; Finance Lead at WWF NL\n 	Frank Wagemans\, Sr. Engagement Specialis
 t at Achmea IM\n\n\n 	16:15 | Discussion panel (all speakers mentioned) 
 | VBDO\n 	17:00 | Drinks\n\nBe part of the solution in transforming clima
 te engagement strategies.​ Register now: https://lnkd.in/eTu-cRPC
ATTACH;FMTTYPE=image/jpeg:https://www.duurzaam-beleggen.nl/wordpress/wp-co
 ntent/uploads/2025/04/1745489314158.png
CATEGORIES:Professional/Bedrijf
LOCATION:WWF-NL\, Driebergseweg 10\, Zeist\, 3708 JB\, Nederland
GEO:52.074234;5.246652
X-APPLE-STRUCTURED-LOCATION;VALUE=URI;X-ADDRESS=Driebergseweg 10\, Zeist\, 
 3708 JB\, Nederland;X-APPLE-RADIUS=100;X-TITLE=WWF-NL:geo:52.074234,5.2466
 52
END:VEVENT
BEGIN:VTIMEZONE
TZID:Europe/Amsterdam
X-LIC-LOCATION:Europe/Amsterdam
BEGIN:DAYLIGHT
DTSTART:20250330T030000
TZOFFSETFROM:+0100
TZOFFSETTO:+0200
TZNAME:CEST
END:DAYLIGHT
END:VTIMEZONE
END:VCALENDAR