BEGIN:VCALENDAR
VERSION:2.0
PRODID:-//wp-events-plugin.com//7.2.3.1//EN
TZID:Europe/Amsterdam
X-WR-TIMEZONE:Europe/Amsterdam
BEGIN:VEVENT
UID:223@duurzaam-beleggen.nl
DTSTART;TZID=Europe/Amsterdam:20241209T130000
DTEND;TZID=Europe/Amsterdam:20241209T170000
DTSTAMP:20241030T134128Z
URL:https://www.duurzaam-beleggen.nl/events/duurzaam-geld-zoekt-circulair-
 ondernemer-dgzco/
SUMMARY:Duurzaam Geld Zoekt Circulair Ondernemer (DGZCO)
DESCRIPTION:Hét matchmaking event waar circulaire ondernemers in contact k
 omen met duurzame financiers.\n\nBen je circulair ondernemer en wil je wet
 en wat jouw kansen zijn wat betreft financiering? Tijdens Duurzaam Geld Zo
 ekt Circulair Ondernemer ga je op speeddate met een of meerdere financiers
  en weet je in een middag waar je kansen liggen. Daarnaast word je ook nog
  eens bijgepraat over de meest recente ontwikkelingen in de financiering v
 an circulaire businessmodellen.\n\nDit programma is enkel fysiek te bezoek
 en op de locatie.\n\nCircl Movement en het Versnellingshuis organiseren op
  maandagmiddag 9 december 2024 ‘Duurzaam Geld Zoekt Circulair Ondernemer
 ’ in de Makersfabriek in Zwolle.\n\nAls ondernemer wil je een positieve 
 impact maken op het gebied van duurzaamheid en het klimaat en daarom zie j
 e circulariteit als grote kans. Maar het financieren van circulair onderne
 merschap en innovatie is vaak nog een uitdaging. Heb jij een circulaire on
 derneming en een concrete financieringsvraag? Lees hieronder verder en mel
 d je aan voor dit event!\n\nDe deadline voor aanmelding is zondag 10 novem
 ber 2024.\nWaarom je hierbij wilt zijn\n\n 	Kwaliteit van gesprekken: er g
 aat een uitgebreid selectieproces aan de speeddates vooraf. Alle financier
 s kijken van te voren kritisch naar jouw bedrijfsinformatie en je pitchdec
 k. Zo ga je alleen in gesprek als er daadwerkelijk kans is op een match vo
 or financiering.\n 	Er is een breed palet aan financiers aanwezig op het e
 vent. Dit zijn allemaal koplopers in het financieren van duurzame initiati
 even. Denk hierbij aan banken\, regionale ontwikkelingsmaatschappijen\, cr
 owdfunders en subsidieverstrekkers. Je kan op speeddate met tot wel 3 fina
 nciers op een middag.\n 	Heb je net die ene financier gemist tijdens de sp
 eeddates? Grijp alsnog je kans tijdens de netwerkronde.\n 	Maak kennis met
  andere circulaire ondernemers en ga in gesprek over jullie gedeelde kanse
 n en uitdagingen.\n\nVoor wie is ‘Duurzaam Geld Zoekt Circulair Ondernem
 er’ interessant?\nDit event is speciaal voor circulaire ondernemers met 
 een concrete financieringsvraag. Herken je jezelf in onderstaande punten\,
  schrijf je dan in:\n\n 	Je hebt een circulair(e) product of dienst\;\n 	J
 e bent een startende ondernemer en hebt een goed businessplan\, de eerste 
 klanten zijn al binnen\, of\;\n 	Je bent al een tijdje onderweg en bent nu
  toe aan de volgende groeifase\;\n 	Uiteraard ben je op zoek naar financie
 ring om de volgende stap te kunnen zetten.\n 	Je hebt een heldere financie
 ringsvraag en een goed pitchdeck om deze te kunnen toelichten.\n\nEen paar
  voorbeelden van ondernemers die je voorgingen:\n\n 	Een producent van mac
 hines die afvalstromen uit de levensmiddelenindustrie om kunnen zetten in 
 een veilig herbruikbare stroom. Er was financiering nodig voor R&amp\;D en
  opschaling. Speeddates met: Regionale ontwikkelingsmaatschappij\, private
  equity partij en een online investeringsplatform.\n 	Een ontwerper van en
  retailer in duurzame mode. Er was financiering nodig voor het terugkopen 
 van aandelen\, verbouwen van het kantoor en onderzoek naar lokale waardeke
 tens. Speeddates met: Financieel adviseur/investeerder en online investeri
 ngsplatform.\n 	Een innovatieplatform voor een circulaire grondstof\, geri
 cht op de keten. Er was financiering nodig als startkapitaal. Speeddate me
 t: Bank.\n\nGoed om te weten\nIedereen die zich aanmeldt voor Duurzaam Gel
 d Zoekt Circulair Ondernemer vult een uitgebreide vragenlijst in. We lopen
  iedere aanmelding zorgvuldig door\, om je te koppelen aan geschikte finan
 ciers. Zo halen ondernemers én financiers het meest uit het event. Een aa
 nmelding garandeert dan ook niet automatisch je aanwezigheid. Je ontvangt 
 na aanmelding een persoonlijke terugkoppeling.\n\nMeer informatie/aanmelde
 n
ATTACH;FMTTYPE=image/jpeg:https://www.duurzaam-beleggen.nl/wordpress/wp-co
 ntent/uploads/2024/10/duurzaamgeld.webp
CATEGORIES:Professional/Bedrijf
LOCATION:Makersfabriek\, Ceintuurbaan 15\, Zwolle\, 8022 AW\, Nederland
GEO:52.522192;6.117164
X-APPLE-STRUCTURED-LOCATION;VALUE=URI;X-ADDRESS=Ceintuurbaan 15\, Zwolle\, 
 8022 AW\, Nederland;X-APPLE-RADIUS=100;X-TITLE=Makersfabriek:geo:52.522192
 ,6.117164
END:VEVENT
BEGIN:VTIMEZONE
TZID:Europe/Amsterdam
X-LIC-LOCATION:Europe/Amsterdam
BEGIN:STANDARD
DTSTART:20241027T020000
TZOFFSETFROM:+0200
TZOFFSETTO:+0100
TZNAME:CET
END:STANDARD
END:VTIMEZONE
END:VCALENDAR