BEGIN:VCALENDAR
VERSION:2.0
PRODID:-//wp-events-plugin.com//7.2.3.1//EN
TZID:Europe/Amsterdam
X-WR-TIMEZONE:Europe/Amsterdam
BEGIN:VEVENT
UID:227@duurzaam-beleggen.nl
DTSTART;TZID=Europe/Amsterdam:20250210T123000
DTEND;TZID=Europe/Amsterdam:20250210T133000
DTSTAMP:20250128T181043Z
URL:https://www.duurzaam-beleggen.nl/events/duurzame-outlook-2025/
SUMMARY:Duurzame Outlook 2025
DESCRIPTION:Dit webinar-jaar beginnen we meteen goed met een bijzonder lunc
 h webinar van Stan &amp\; Wende op maandag 10 februari van 12.30 tot 13.20
  uur. We kijken nog even terug op 2024\, maar vooral blikken we vooruit op
  wat dit turbulent begonnen nieuwe jaar 2025 ons gaat brengen. Een ‘outl
 ook’ noemen we dat in de beleggingswereld. En dan natuurlijk op het gebi
 ed van duurzaam beleggen.\n\n2024 was weer een goed beursjaar. In een volg
 ende nieuwsbrief gaan we daar wat verder op in. De meningen over de ontwik
 kelingen in 2025 zijn sterk verdeeld. Hoe gaan "wij van Stan&amp\;Wende" h
 ier dit jaar mee om in de beleggingsportefeuilles?\n\nMaar met afstand het
  belangrijkste onderdeel van dit webinar is onze gastspreker. We hebben we
 er een bijzondere en inspirerende persoonlijkheid gevonden voor je: Dennis
  van der Putten!\n\nDennis werkt sinds 2006 bij Cardano en heeft een brede
  kennis van vermogensbeheer. In zijn huidige rol van Chief Sustainability 
 Officer is hij verantwoordelijk voor de Cardano visie op het gebied van du
 urzaamheid.\nDaarnaast is hij verantwoordelijk voor klantadvisering op duu
 rzaamheidsvlak. Dennis spant zich in om de financiële sector op een innov
 atieve manier vooruit te helpen. Zo stond hij in de “Trouw Duurzame Top 
 100” en was hij “Changemaker” in the categorie duurzaam beleggen.\nI
 n interviews spreekt hij zich duidelijk en opvallend uit over belangrijke 
 duurzame onderwerpen.\n\nWe laten ons dus bijpraten door een expert op zow
 el beleggings- als duurzaam gebied. Zoals ze in de duurzame wereld zeggen:
  een echte ‘changemaker duurzaam beleggen”. Hij neemt ons op zijn eige
 n bijzondere manier mee in zijn beleving van duurzaamheid\, niet alleen in
  beleggen\, maar ook in ons gedrag en emoties hierover.\n\nKortom: een web
 inar om absoluut te blokken in je agenda. Schrijf je hier direct in\, dan
  ben je verzekerd van je online plek!
ATTACH;FMTTYPE=image/jpeg:https://www.duurzaam-beleggen.nl/wordpress/wp-co
 ntent/uploads/2025/01/stan.jpg
CATEGORIES:Consument/Particulier
LOCATION:Webinar\, nvt\, Online\, Nederland
X-APPLE-STRUCTURED-LOCATION;VALUE=URI;X-ADDRESS=nvt\, Online\, Nederland;X-
 APPLE-RADIUS=100;X-TITLE=Webinar:geo:0,0
END:VEVENT
BEGIN:VTIMEZONE
TZID:Europe/Amsterdam
X-LIC-LOCATION:Europe/Amsterdam
BEGIN:STANDARD
DTSTART:20241027T020000
TZOFFSETFROM:+0200
TZOFFSETTO:+0100
TZNAME:CET
END:STANDARD
END:VTIMEZONE
END:VCALENDAR