BEGIN:VCALENDAR
VERSION:2.0
PRODID:-//wp-events-plugin.com//7.2.3.1//EN
TZID:Europe/Amsterdam
X-WR-TIMEZONE:Europe/Amsterdam
BEGIN:VEVENT
UID:235@duurzaam-beleggen.nl
DTSTART;TZID=Europe/Amsterdam:20251216T200000
DTEND;TZID=Europe/Amsterdam:20251216T220000
DTSTAMP:20251204T091623Z
URL:https://www.duurzaam-beleggen.nl/events/een-beter-financieel-systeem/
SUMMARY:Een beter financieel systeem
DESCRIPTION:Het financiële systeem is te complex\, te groot en dient te va
 ak zichzelf in plaats van de samenleving. Dat kan én moet anders. Triodos
  Bank lanceert daarom in december haar nieuwe financiële systeemvisie: ee
 n oproep tot een sector die eenvoudiger\, kleiner en gericht is op maatsch
 appelijke waarde. Banken moeten risico’s nemen die de samenleving daadwe
 rkelijk vooruithelpen. De digitale euro is een kans voor publiek geld\, di
 e de financiële sector moet omarmen. Kapitaalstromen in onze maatschappij
  moeten op democratische wijze gestuurd worden naar initiatieven die ons v
 erder helpen in de broodnodige transities. Tijdens deze avond gaan we in g
 esprek over een nieuwe richting voor de sector en nodigen we iedereen uit 
 om samen te bouwen aan een rechtvaardiger financieel systeem. Van betrokke
 n burgers\, tot mensen uit de sector en beleidsmakers: iedereen is welkom.
 \nOver de sprekers\nLaura van Geest is bestuursvoorzitter van de Autorite
 it Financiële Markten. Ze was eerder directeur van het Centraal Planburea
 u en werkzaam bij het Ministerie van Financiën.\n\nHans Stegeman is hoof
 deconoom bij Triodos Bank en columnist voor Vrij Nederland. Als econoom is
  hij van mening dat financiële argumenten altijd in balans moeten zijn me
 t sociale en ecologische standpunten\, waarbij hij steeds op zoek is naar 
 een praktische toepassing van theoretische perspectieven. De rode draad in
  alles wat hij doet is het besef dat ons economisch systeem fundamenteel m
 oet veranderen en dat de financiële sector daarin een cruciale rol speelt
 .\n\nThomas Bollen is onderzoeksjournalist bij Follow the Money en auteur
  van Geld genoeg\, maar niet voor jou. Hij is als financieel econoom gef
 ascineerd door de economische denkbeelden\, modellen en propaganda die dic
 teren hoe we samenleven. Samen met Martijn Jeroen van der Linden en Carlij
 n Kingma deed hij onderzoek naar ons geldstelsel dat leidde tot Het water
 werk van ons geld.\n\nLaura Mentink is toneelspeler\, schrijver en tekena
 ar. Na de toneelschool in Arnhem (ArtEZ) speelt en maakt ze onder andere b
 ij Hotel Modern\, NTGent\, de Nieuwe Tijd en Building Conversation. Naast 
 haar werk als speler is Laura constant op zoek naar de beweging\, het thea
 ter uit en de maatschappij in. Door middel van interventies\, performances
 \, teksten en tekeningen\, poogt ze vorm te geven aan geluiden die vaak ni
 et gehoord worden.\n\nGratis aanmelden\n\n
ATTACH;FMTTYPE=image/jpeg:https://www.duurzaam-beleggen.nl/wordpress/wp-co
 ntent/uploads/2025/12/Programmabeeld_Financiele-systeemvisie-Triodos.png
CATEGORIES:Professional/Bedrijf
LOCATION:Pakhuis de Zwijger\, Piet Heinkade 179\, Amsterdam\, Netherlands\,
  1019 HC\, Nederland
GEO:52.376832;4.92208
X-APPLE-STRUCTURED-LOCATION;VALUE=URI;X-ADDRESS=Piet Heinkade 179\, Amsterd
 am\, Netherlands\, 1019 HC\, Nederland;X-APPLE-RADIUS=100;X-TITLE=Pakhuis 
 de Zwijger:geo:52.376832,4.92208
END:VEVENT
BEGIN:VTIMEZONE
TZID:Europe/Amsterdam
X-LIC-LOCATION:Europe/Amsterdam
BEGIN:STANDARD
DTSTART:20251026T020000
TZOFFSETFROM:+0200
TZOFFSETTO:+0100
TZNAME:CET
END:STANDARD
END:VTIMEZONE
END:VCALENDAR