BEGIN:VCALENDAR
VERSION:2.0
PRODID:-//wp-events-plugin.com//7.2.3.1//EN
TZID:Europe/Amsterdam
X-WR-TIMEZONE:Europe/Amsterdam
BEGIN:VEVENT
UID:178@duurzaam-beleggen.nl
DTSTART;TZID=Europe/Amsterdam:20221116T194500
DTEND;TZID=Europe/Amsterdam:20221116T220000
DTSTAMP:20221011T135115Z
URL:https://www.duurzaam-beleggen.nl/events/event-beleggen-voor-een-betere
 -wereld/
SUMMARY:Event 'Beleggen voor een betere wereld'
DESCRIPTION:Wil je ook alles weten over de actuele ontwikkelingen rondom du
 urzaam beleggen? Over nieuwe beleggingsmogelijkheden zoals biodiversiteit?
  Horen en zien hoe onverwachte samenwerking kan zorgen voor meer duurzaamh
 eid? Ontdekken hoe een nieuwe generatie in de financiële sector ‘groen
 ’ leiderschap in de praktijk brengt?\n\nStan&amp\;Wende organiseert\, sa
 men met Portaal Duurzaam Financieel\, hét duurzame beleggingsevent van 20
 22 op woendagavond 16 november. Met een avondvullend en interactief progra
 mma in Pakhuis de Zwijger in Amsterdam. Met bijdrages van diverse topsprek
 ers zoals Nikki Trip (o.a. Impact Economy Foundation)\, Karin van Dijk (AS
 N Impact Investors) en Daan Spaargaren (PME Pensioenfonds-expert verantwoo
 rd beleggen). Een avond boordevol inspiratie en volop ruimte voor kritisch
 e noten en scherpe vragen rondom het beleggingsthema voor de komende jaren
 : Netto positief in 2030!\n\nModerator van de avond is Doortje ’t Hart.\
 n\n\n\nGratis aanmelden
ATTACH;FMTTYPE=image/jpeg:https://www.duurzaam-beleggen.nl/wordpress/wp-co
 ntent/uploads/2022/09/beterewereld.jpg
CATEGORIES:Consument/Particulier
LOCATION:Pakhuis de Zwijger\, Piet Heinkade 179\, Amsterdam\, Netherlands\,
  1019 HC\, Nederland
GEO:52.376832;4.92208
X-APPLE-STRUCTURED-LOCATION;VALUE=URI;X-ADDRESS=Piet Heinkade 179\, Amsterd
 am\, Netherlands\, 1019 HC\, Nederland;X-APPLE-RADIUS=100;X-TITLE=Pakhuis 
 de Zwijger:geo:52.376832,4.92208
END:VEVENT
BEGIN:VTIMEZONE
TZID:Europe/Amsterdam
X-LIC-LOCATION:Europe/Amsterdam
BEGIN:STANDARD
DTSTART:20221030T020000
TZOFFSETFROM:+0200
TZOFFSETTO:+0100
TZNAME:CET
END:STANDARD
END:VTIMEZONE
END:VCALENDAR