BEGIN:VCALENDAR
VERSION:2.0
PRODID:-//wp-events-plugin.com//7.2.3.1//EN
TZID:Europe/Amsterdam
X-WR-TIMEZONE:Europe/Amsterdam
BEGIN:VEVENT
UID:221@duurzaam-beleggen.nl
DTSTART;TZID=Europe/Amsterdam:20241015T160000
DTEND;TZID=Europe/Amsterdam:20241015T170000
DTSTAMP:20240917T055853Z
URL:https://www.duurzaam-beleggen.nl/events/expert-session-investing-in-wa
 ter/
SUMMARY:Expert session Investing in Water
DESCRIPTION:VBDO and Legal &amp\; General Investment Management are pleased
  to invite you to our upcoming expert session Investing in Water.\n\nJoin
  us to explore the critical role water plays in sustaining life on Earth. 
 With only 2.5% of the planet’s water usable for human consumption\, clim
 ate change is intensifying the strain on this precious resource. The World
  Economic Forum has highlighted water as a major global risk and a potenti
 al source of conflict.\n\nWater isn’t just an isolated issue — it inte
 rsects with many other ESG risks that investors must navigate. Effective g
 overnance\, thoughtful stewardship\, and active stakeholder engagement wit
 h both the public and private sectors are essential for managing these cha
 llenges. But beyond risk mitigation\, there are incredible opportunities t
 o invest in solutions that promote the health of communities and the envir
 onment.\n\nExpert speakers:\n\n 	Alexander Burr (Sr. Manager LGIM Investm
 ent Stewardship\, Legal &amp\; General Investment Management): Mitigating 
 water risk\n 	Nora van Cauwenbergh (Head of the LWM Department\, IHE Delf
 t Institute for Water Education): Water criteria in EU regulation\, water-
 related stakeholder approaches\n 	Frank Wagemans (Senior Engagement Speci
 alist\, Achmea IM): The importance of water in responsible investment and 
 its connection to key themes such as climate\, human rights\, and biodiver
 sity.\n\nREGISTER FOR THIS SESSION
ATTACH;FMTTYPE=image/jpeg:https://www.duurzaam-beleggen.nl/wordpress/wp-co
 ntent/uploads/2024/09/unnamed-2024-09-17T075637.074.jpg
CATEGORIES:Professional/Bedrijf
LOCATION:Webinar\, nvt\, Online\, Nederland
X-APPLE-STRUCTURED-LOCATION;VALUE=URI;X-ADDRESS=nvt\, Online\, Nederland;X-
 APPLE-RADIUS=100;X-TITLE=Webinar:geo:0,0
END:VEVENT
BEGIN:VTIMEZONE
TZID:Europe/Amsterdam
X-LIC-LOCATION:Europe/Amsterdam
BEGIN:DAYLIGHT
DTSTART:20240331T030000
TZOFFSETFROM:+0100
TZOFFSETTO:+0200
TZNAME:CEST
END:DAYLIGHT
END:VTIMEZONE
END:VCALENDAR