BEGIN:VCALENDAR
VERSION:2.0
PRODID:-//wp-events-plugin.com//7.2.3.1//EN
TZID:Europe/Amsterdam
X-WR-TIMEZONE:Europe/Amsterdam
BEGIN:VEVENT
UID:166@duurzaam-beleggen.nl
DTSTART;TZID=Europe/Amsterdam:20220420T093000
DTEND;TZID=Europe/Amsterdam:20220420T190000
DTSTAMP:20220413T131002Z
URL:https://www.duurzaam-beleggen.nl/events/ffp-jubileumcongres/
SUMMARY:FFP Jubileumcongres
DESCRIPTION:Wat mag je allemaal verwachten van het FFP Jubileumcongres? We 
 ontmoeten je in de ochtend op het informatieplein in lentesfeer. Hans Steg
 eman\, econoom en hoofdstrateeg bij Triodos Bank trapt af met een een plei
 dooi voor een radicaal nieuw economisch stelsel. Vervolgens heb je de keuz
 e uit maar liefst 21 expertmeetings\, verdeeld over verschillende rondes.\
 n\n\n\nKlimaatdeskundige en dagvoorzitter Helga van Leur schetst ons in de
  middag de gevolgen van de klimmaatverandering. Keynote Damiaan Denys\, fi
 losoof en psychiater\, geeft zijn visie over het leven na corona. Wij slui
 ten de congresdag af met een dinerbuffet.\nExpertsessie Index of impact: (
 hoe) ga jij aan de slag met duurzaam beleggen?\nDuurzaam beleggen: al zou 
 je nog willen\, je kunt er niet meer omheen. Iedereen is in een hoog tempo
  bezig om beleggingsportefeuilles te vergroenen. Er is een enorme opkomst 
 van allerlei soorten ‘groene’ beleggingsfondsen. Maar hoe groen zijn d
 ie dan?\n\n 	Kies je voor (passieve) ESG-indexfondsen\, of zijn alleen (ac
 tieve) impactfondsen serieus duurzaam?\n 	Lever je voor het behalen van du
 urzaam\, maatschappelijk rendement financieel rendement in?\n 	Hoe help je
  jouw klant de juiste keuzes te maken in het woud van duurzame beleggingen
 ?\n 	Helpen de nieuwe Europese regels jou hierbij?\n\nKortom: genoeg duurz
 ame dillema’s! Welke rol neem jij in het verduurzamen van het vermogen v
 an je klanten en welk verschil ga jij samen met je klanten maken? Van vrag
 en naar antwoorden: daar gaan we samen met jou graag mee aan de slag tijde
 ns deze Expertmeeting. Sprekers: Dirk Drukker (Investor Relationship Manag
 er Triodos Investment Management) en Wouter van Leusen en Hubrien Meijaard
  (Partners Stan&amp\;Wende)\n\nBekijk hier het hele programma\n\n&nbsp\;
ATTACH;FMTTYPE=image/jpeg:https://www.duurzaam-beleggen.nl/wordpress/wp-co
 ntent/uploads/2022/04/ffp.jpg
CATEGORIES:Professional/Bedrijf
LOCATION:NBC\,  Blokhoeve 1\, Nieuwegein\, 3438 LC\, Nederland
GEO:52.047461;5.090727
X-APPLE-STRUCTURED-LOCATION;VALUE=URI;X-ADDRESS= Blokhoeve 1\, Nieuwegein\,
  3438 LC\, Nederland;X-APPLE-RADIUS=100;X-TITLE=NBC:geo:52.047461,5.090727
END:VEVENT
BEGIN:VTIMEZONE
TZID:Europe/Amsterdam
X-LIC-LOCATION:Europe/Amsterdam
BEGIN:DAYLIGHT
DTSTART:20220327T030000
TZOFFSETFROM:+0100
TZOFFSETTO:+0200
TZNAME:CEST
END:DAYLIGHT
END:VTIMEZONE
END:VCALENDAR