BEGIN:VCALENDAR
VERSION:2.0
PRODID:-//wp-events-plugin.com//7.2.3.1//EN
TZID:Europe/Amsterdam
X-WR-TIMEZONE:Europe/Amsterdam
BEGIN:VEVENT
UID:212@duurzaam-beleggen.nl
DTSTART;TZID=Europe/Amsterdam:20241023T090000
DTEND;TZID=Europe/Amsterdam:20241024T170000
DTSTAMP:20240202T123850Z
URL:https://www.duurzaam-beleggen.nl/events/giin-2024-impact-forum/
SUMMARY:GIIN 2024 Impact Forum
DESCRIPTION:Join us at the GIIN Impact Forum\, a top global gathering of i
 mpact investors.\nThe GIIN Impact Forum is a global impact investing event
  with unparalleled networking\, thought-provoking speakers\, interactive s
 essions\, and a diverse range of impact investing leaders from six contine
 nts.\n\nWith a reputation for fostering valuable connections and providing
  a platform for sharing innovative strategies and industry developments\, 
 this is an opportunity you can't afford to miss.\n\nDiscover new opportuni
 ties and learn from the best in the industry as you explore ways to drive 
 continued growth and momentum in the impact investing market.\n\nWith more
  and more people recognizing the importance of considering societal and en
 vironmental impact in their investments\, now is the time to position your
 self at the forefront of this rapidly evolving industry.\n\nDon't miss out
  on the chance to be a part of shaping the future of financial markets for
  positive impact.\n\nMore information
ATTACH;FMTTYPE=image/jpeg:https://www.duurzaam-beleggen.nl/wordpress/wp-co
 ntent/uploads/2024/02/gin2024.png
CATEGORIES:Professional/Bedrijf
LOCATION:RAI Amsterdam\, Europaplein\, Amsterdam\, Netherlands\, 1078 GZ\, 
 Nederland
X-APPLE-STRUCTURED-LOCATION;VALUE=URI;X-ADDRESS=Europaplein\, Amsterdam\, N
 etherlands\, 1078 GZ\, Nederland;X-APPLE-RADIUS=100;X-TITLE=RAI Amsterdam:
 geo:0,0
END:VEVENT
BEGIN:VTIMEZONE
TZID:Europe/Amsterdam
X-LIC-LOCATION:Europe/Amsterdam
BEGIN:DAYLIGHT
DTSTART:20240331T030000
TZOFFSETFROM:+0100
TZOFFSETTO:+0200
TZNAME:CEST
END:DAYLIGHT
END:VTIMEZONE
END:VCALENDAR