BEGIN:VCALENDAR
VERSION:2.0
PRODID:-//wp-events-plugin.com//7.2.3.1//EN
TZID:Europe/Amsterdam
X-WR-TIMEZONE:Europe/Amsterdam
BEGIN:VEVENT
UID:176@duurzaam-beleggen.nl
DTSTART;TZID=Europe/Amsterdam:20221101T140000
DTEND;TZID=Europe/Amsterdam:20221101T171500
DTSTAMP:20220829T120315Z
URL:https://www.duurzaam-beleggen.nl/events/hybride-symposium-in-dialoog-b
 lijven-of-weggaan-dilemmas-bij-mvo-en-beleggen/
SUMMARY:Hybride symposium '‘In dialoog blijven of weggaan?\; dilemma's bi
 j MVO en beleggen’
DESCRIPTION:Eumedion nodigt u uit voor een hybride symposium online en in h
 et Spoorwegmuseum Utrecht.\n\nPROGRAMMA\n14.00 uur Opening\nDoor dagvoorz
 itter Daniëlle Melis\, commissaris bij Triodos Bank\, PGGM Vermogensbehe
 er en Blue Sky Group en bestuurder bij STAP Algemeen Pensioenfonds\n\n14.0
 5 uur Korte inleiding op de thematiek\nKorte inleiding op de thematiek do
 or Lars Dijkstra\, bestuursvoorzitter van Eumedion\n\n14.10 uur Maatscha
 ppelijk verantwoord zakendoen te midden van geopolitieke spanningen en pro
 tectionistische maatregelen \nVoordracht van Roger Dassen\, CFO van ASML
 \n\n14.40 uur Engagement of exit van institutionele beleggers: wat is eff
 ectiever?\nVoordracht van Mathijs van Dijk\, hoogleraar Finance Erasmus Un
 iversiteit Rotterdam\n\n15.10 uur Engagement versus exit: de praktijk van
  institutionele beleggers\nDiscussie tussen Marcel Andringa\, uitvoerend 
 bestuurder PME pensioenfonds\, en Joanne Kellermann\, bestuursvoorzitter 
 Pensioenfonds Zorg &amp\; Welzijn\n\n15.40 uur Pauze\n\n16.00 uur Het vo
 orstel voor de ‘Corporate Sustainability Due Diligence Directive’: pos
 itieve impact of compliance-exercitie? \nVoordracht van Mijke Sinninghe 
 Damsté\, partner en advocaat bij Loyens &amp\; Loeff\n\n16.30 uur Intern
 ationaal maatschappelijk verantwoord ondernemen: zakendoen in complexe mar
 kten\, waar wet- en regelgeving nog in ontwikkeling is \nVoordracht van 
 Harold van den Broek\, CFO van Heineken\n\n17.00 uur Wrap-up\nWrap-up doo
 r Rients Abma\, directeur van Eumedion\n\n17.10 uur Afsluiting\nAfsluiti
 ng door dagvoorzitter Daniëlle Melis\n\n17.15 uur Borrel \n\nDeelname 
 aan het symposium is kosteloos. De capaciteit van de zaal in het Spoorwegm
 useum is beperkt tot maximaal 100 deelnemers. Het symposium is ook rechtst
 reeks en via replay via een webcast te volgen.\n\nKlik hier voor de aanm
 elding voor fysieke deelname aan het symposium.\nKlik hier voor aanmeldi
 ng voor online-deelname aan het symposium.
ATTACH;FMTTYPE=image/jpeg:https://www.duurzaam-beleggen.nl/wordpress/wp-co
 ntent/uploads/2014/01/eumedion_logo.jpg
CATEGORIES:Professional/Bedrijf
LOCATION:Webinar\, nvt\, Online\, Nederland
X-APPLE-STRUCTURED-LOCATION;VALUE=URI;X-ADDRESS=nvt\, Online\, Nederland;X-
 APPLE-RADIUS=100;X-TITLE=Webinar:geo:0,0
END:VEVENT
BEGIN:VTIMEZONE
TZID:Europe/Amsterdam
X-LIC-LOCATION:Europe/Amsterdam
BEGIN:STANDARD
DTSTART:20221030T020000
TZOFFSETFROM:+0200
TZOFFSETTO:+0100
TZNAME:CET
END:STANDARD
END:VTIMEZONE
END:VCALENDAR