BEGIN:VCALENDAR
VERSION:2.0
PRODID:-//wp-events-plugin.com//7.2.3.1//EN
TZID:Europe/Amsterdam
X-WR-TIMEZONE:Europe/Amsterdam
BEGIN:VEVENT
UID:220@duurzaam-beleggen.nl
DTSTART;TZID=Europe/Amsterdam:20241128T093000
DTEND;TZID=Europe/Amsterdam:20241128T170000
DTSTAMP:20240819T130834Z
URL:https://www.duurzaam-beleggen.nl/events/impact-seminar-series-benelux/
SUMMARY:Impact Seminar Series - BENELUX
DESCRIPTION:Impact Seminar Series - BENELUX\n\nJoin the impact investing pe
 ers at this event\, which welcomes experienced impact investors and those 
 who seek to learn more about it.\n\nPhenix Capital will be releasing furth
 er details about the seminar shortly!\n\nRegister for your complimentary s
 eat here!
ATTACH;FMTTYPE=image/jpeg:https://www.duurzaam-beleggen.nl/wordpress/wp-co
 ntent/uploads/2024/08/imp_benelux.png
CATEGORIES:Professional/Bedrijf
LOCATION:H'art Museum\, Amstel 51\, Amsterdam\, 1018 DR\, Nederland
GEO:52.365772;4.902782
X-APPLE-STRUCTURED-LOCATION;VALUE=URI;X-ADDRESS=Amstel 51\, Amsterdam\, 101
 8 DR\, Nederland;X-APPLE-RADIUS=100;X-TITLE=H'art Museum:geo:52.365772,4.9
 02782
END:VEVENT
BEGIN:VTIMEZONE
TZID:Europe/Amsterdam
X-LIC-LOCATION:Europe/Amsterdam
BEGIN:STANDARD
DTSTART:20241027T020000
TZOFFSETFROM:+0200
TZOFFSETTO:+0100
TZNAME:CET
END:STANDARD
END:VTIMEZONE
END:VCALENDAR