BEGIN:VCALENDAR
VERSION:2.0
PRODID:-//wp-events-plugin.com//7.2.3.1//EN
TZID:Europe/Amsterdam
X-WR-TIMEZONE:Europe/Amsterdam
BEGIN:VEVENT
UID:213@duurzaam-beleggen.nl
DTSTART;TZID=Europe/Amsterdam:20240326T093000
DTEND;TZID=Europe/Amsterdam:20240327T170000
DTSTAMP:20240304T064551Z
URL:https://www.duurzaam-beleggen.nl/events/impact-summit-europe-2/
SUMMARY:Impact Summit Europe
DESCRIPTION:Impact Summit Europe is a highly curated institutional investor
  conference designed to bring together thought leaders and practitioners i
 n impact investing with the objective to catalyse private institutional ca
 pital in support of the United Nations Sustainable Development Goals. The 
 Summit offers investors the practical instruments to increase their impact
  mandate\, contributing to scale their positive impact on people and the p
 lanet. It also provides the necessary content and tools to start investing
  with impact.\n\nThe 10th anniversary of Impact Summit Europe will bring t
 he global impact investing community together to pose\, reflect and addres
 s the current and forthcoming challenges and opportunities in the impact i
 nvesting space.\n\nFrom responsible to thematic\, to impact investing as w
 e know it today\, the market has grown immensely to reach its mature stage
  in the Netherlands and other Western European countries. This growth in t
 he industry has led to greater accountability of general and limited partn
 ers. Yet\, more institutional capital is still needed to achieve the Susta
 inable Development Goals. Institutional asset owners\, together with their
  investors\, companies\, and governments\, are those who can shape a more 
 sustainable and equitable future\, a reality.\n\nWith the new vigour and t
 hought-provoking perspectives from our industry peers\, we hope to set a n
 ew ambitious decade for impact!\n\nREDEFINING SUCCESS\nCentred on continuo
 us learning and improvement within the impact investing field\, Impact Sum
 mit Europe will reflect on the past 10 years of impact investing and will 
 invite the participants to re-evaluate the successes and drawbacks of thei
 r impact strategies. For the new decade\, investors must stay proactive an
 d agile to address the changing environment to reach ambitious impact goal
 s.\n\nMEASURING WHAT MATTERS\nAs the search for the most accurate and trus
 tworthy data is ongoing\, the challenge for investors is to decide when go
 od\, is good enough. Investors must pursue their investment strategies whi
 le finding a delicate balance between green-hushing and greenwashing. Data
  quality should not become a barrier for investors to begin investing with
  an impact lens. Through engaging attendees in deep-dive discussions surro
 unding the challenges and opportunities in finding reliable data for impac
 t evaluation\, Impact Summit Europe aims to aid investors in making inform
 ed decisions when navigating the data landscape.\n\nIMPACT IN ACTION: INDU
 STRY COLLABORATION\nFinally\, the summit will address the vital role of co
 llaboration in addressing complex global challenges. It will emphasize the
  importance of investors working together effectively and engaging in mean
 ingful discussions with companies\, sovereigns\, and policymakers. Attende
 es will have the opportunity to explore successful coalitions that are act
 ively tackling pressing issues such as plastic pollution and the circular 
 economy.\n\nMore information
ATTACH;FMTTYPE=image/jpeg:https://www.duurzaam-beleggen.nl/wordpress/wp-co
 ntent/uploads/2024/03/ise.png
CATEGORIES:Professional/Bedrijf
LOCATION:Beurs van Berlage\, Damrak\, Amsterdam\, Netherlands\, 1012 ZJ\, N
 ederland
GEO:52.3754268;4.896190299999944
X-APPLE-STRUCTURED-LOCATION;VALUE=URI;X-ADDRESS=Damrak\, Amsterdam\, Nether
 lands\, 1012 ZJ\, Nederland;X-APPLE-RADIUS=100;X-TITLE=Beurs van Berlage:g
 eo:52.3754268,4.896190299999944
END:VEVENT
BEGIN:VTIMEZONE
TZID:Europe/Amsterdam
X-LIC-LOCATION:Europe/Amsterdam
BEGIN:STANDARD
DTSTART:20231029T020000
TZOFFSETFROM:+0200
TZOFFSETTO:+0100
TZNAME:CET
END:STANDARD
END:VTIMEZONE
END:VCALENDAR