BEGIN:VCALENDAR
VERSION:2.0
PRODID:-//wp-events-plugin.com//7.2.3.1//EN
TZID:Europe/Amsterdam
X-WR-TIMEZONE:Europe/Amsterdam
BEGIN:VEVENT
UID:146@duurzaam-beleggen.nl
DTSTART;TZID=Europe/Amsterdam:20220329T130000
DTEND;TZID=Europe/Amsterdam:20220330T180000
DTSTAMP:20220304T072649Z
URL:https://www.duurzaam-beleggen.nl/events/impact-summit-europe-2020/
SUMMARY:Impact Summit Europe 2022
DESCRIPTION:Impact Summit Europe is a highly curated institutional investor
  conference that brings together thought leaders and practitioners in the 
 impact investing space with the aim to catalyse private institutional capi
 tal to support the financing of the UN Sustainable Development Goals.\n\nT
 he Summit focuses on making impact and sustainable development investing m
 ainstream. Impact Summit Europe aims to give investors the practical instr
 uments to increase their impact mandate\, contributing to scale their impa
 ct on people and the planet. It also provides beginners in the impact univ
 erse with the necessary content and tools to start investing with impact.\
 n\n\n\nThis event is catered for C-Suite\, Board Members\, Portfolio Manag
 ers and ESG/Impact Investing officers of:\n\n● Public and Corporate Pens
 ion Funds and their Fiduciary Managers\,\n● Insurance Companies\,\n● S
 overeign Wealth Funds\,\n● Family Offices\,\n● Foundations and Endowme
 nts\,\n● Wealth Managers/Private Banks\,\n● Development Finance Instit
 utions\,\n● Faith-based Organisations.\n\nMore information/register
ATTACH;FMTTYPE=image/jpeg:https://www.duurzaam-beleggen.nl/wordpress/wp-co
 ntent/uploads/2021/11/phenix2022.png
CATEGORIES:Professional/Bedrijf
LOCATION:Vredespaleis\, Carnegieplein 2\, Den Haag\, 2517 KJ\, Nederland
X-APPLE-STRUCTURED-LOCATION;VALUE=URI;X-ADDRESS=Carnegieplein 2\, Den Haag\
 , 2517 KJ\, Nederland;X-APPLE-RADIUS=100;X-TITLE=Vredespaleis:geo:0,0
END:VEVENT
BEGIN:VTIMEZONE
TZID:Europe/Amsterdam
X-LIC-LOCATION:Europe/Amsterdam
BEGIN:DAYLIGHT
DTSTART:20220327T030000
TZOFFSETFROM:+0100
TZOFFSETTO:+0200
TZNAME:CEST
END:DAYLIGHT
END:VTIMEZONE
END:VCALENDAR