BEGIN:VCALENDAR
VERSION:2.0
PRODID:-//wp-events-plugin.com//7.2.3.1//EN
TZID:Europe/Amsterdam
X-WR-TIMEZONE:Europe/Amsterdam
BEGIN:VEVENT
UID:225@duurzaam-beleggen.nl
DTSTART;TZID=Europe/Amsterdam:20250401T093000
DTEND;TZID=Europe/Amsterdam:20250402T170000
DTSTAMP:20241219T084339Z
URL:https://www.duurzaam-beleggen.nl/events/impact-summit-europe-2025/
SUMMARY:Impact Summit Europe 2025
DESCRIPTION:This highly curated conference catered to institutional asset o
 wners will gather 400 senior executives from around the globe for two days
  of discussion on how to accelerate the flow of institutional capital towa
 rds some of the most ambitious environmental &amp\; societal goals\, promo
 ting meaningful investments that go hand-in-hand with financial returns. \
 n\nUnder the theme "THE NEW DNA OF INSTITUTIONAL INVESTMENTS: Meeting the 
 ambitions of Now-Gen"\, the program delves into the transformative shifts 
 shaping the future of institutional investments. It will:\n\n✨ Spotlight
  how the sector is redefining itself to prioritize long-term impact\n✨Em
 brace cutting-edge technological innovations and address ethical considera
 tions\n✨Provide necessary tools needed to bring intention to execution\n
 \nDon’t miss this opportunity to connect\, collaborate\, and shape the f
 uture of institutional investments. Together\, let’s drive meaningful ch
 ange.\n\nRegister here - https://lnkd.in/e7CpSss4
ATTACH;FMTTYPE=image/jpeg:https://www.duurzaam-beleggen.nl/wordpress/wp-co
 ntent/uploads/2024/12/impsum.png
CATEGORIES:Professional/Bedrijf
LOCATION:Muziekgebouw aan 't IJ\, Piet Heinkade 1\, Amsterdam\, 1019 BR\, N
 ederland
GEO:52.378349;4.913113
X-APPLE-STRUCTURED-LOCATION;VALUE=URI;X-ADDRESS=Piet Heinkade 1\, Amsterdam
 \, 1019 BR\, Nederland;X-APPLE-RADIUS=100;X-TITLE=Muziekgebouw aan 't IJ:g
 eo:52.378349,4.913113
END:VEVENT
BEGIN:VTIMEZONE
TZID:Europe/Amsterdam
X-LIC-LOCATION:Europe/Amsterdam
BEGIN:DAYLIGHT
DTSTART:20250330T030000
TZOFFSETFROM:+0100
TZOFFSETTO:+0200
TZNAME:CEST
END:DAYLIGHT
END:VTIMEZONE
END:VCALENDAR