BEGIN:VCALENDAR
VERSION:2.0
PRODID:-//wp-events-plugin.com//7.2.3.1//EN
TZID:Europe/Amsterdam
X-WR-TIMEZONE:Europe/Amsterdam
BEGIN:VEVENT
UID:219@duurzaam-beleggen.nl
DTSTART;TZID=Europe/Amsterdam:20241008T130000
DTEND;TZID=Europe/Amsterdam:20241008T170000
DTSTAMP:20240729T063832Z
URL:https://www.duurzaam-beleggen.nl/events/informatiedag-duurzaam-financi
 eren-als-de-nieuwe-norm/
SUMMARY:Informatiedag 'Duurzaam financieren als de nieuwe norm'
DESCRIPTION:NEN organiseert op 8 oktober 2024 een informatiedag over normal
 isatie voor de financiële sector. Op verschillende niveaus en op meerdere
  thema’s vinden er veranderingen plaats in het financiële landschap. Zo
 wel op het gebied van (Europese) wetgeving\, de financiering van duurzame 
 projecten\, het meenemen van circulaire risico’s of klimaatverandering\,
  de transitie naar duurzame landbouw\, de herwaardering van gebruikte (bou
 w)materialen en hele nieuwe verdienmodellen\, zoals Products as a Service 
 (PaaS).\n\nBanken\, accountants\, verzekeringsmaatschappijen en investerin
 gsfondsen worden allemaal met deze vraagstukken geconfronteerd.  Het spre
 ken van een gemeenschappelijke taal\, uniforme definities en breed gedrage
 n afspraken maakt de transitie naar nieuwe financieringsmodellen en een ve
 randerd speelveld eenvoudiger.\n\nNormen helpen bij het invullen van nieuw
 e wetgeving\, normen creëren een gelijk speelveld\, bieden zekerheid\, ne
 men handelsbarrières weg en werken grensoverschrijdend. Normen zijn een s
 terk instrument voor zelfregulering\, zowel op nationaal\, Europees als mo
 ndiaal niveau.\n\nTijdens de informatiesessie leggen we de waarde van norm
 en uit en richten we ons op verschillende onderwerpen tijdens ronde tafels
 essies. Denk hierbij aan:\nFinanciering van circulaire businessmodellen\, 
 duurzame landbouw transitie\, circulaire bouw en financieel rekening houde
 n met klimaatverandering\,\n\nHet definitieve programma wordt binnenkort b
 ekend gemaakt.\n\nMeer informatie/aanmelden
ATTACH;FMTTYPE=image/jpeg:https://www.duurzaam-beleggen.nl/wordpress/wp-co
 ntent/uploads/2022/09/geld_op.jpg
CATEGORIES:Professional/Bedrijf
LOCATION:Kantoor NEN\, Vlinderweg 6 \, Delft\, 2623 AX\, Nederland
GEO:51.988554;4.362016
X-APPLE-STRUCTURED-LOCATION;VALUE=URI;X-ADDRESS=Vlinderweg 6 \, Delft\, 262
 3 AX\, Nederland;X-APPLE-RADIUS=100;X-TITLE=Kantoor NEN:geo:51.988554,4.36
 2016
END:VEVENT
BEGIN:VTIMEZONE
TZID:Europe/Amsterdam
X-LIC-LOCATION:Europe/Amsterdam
BEGIN:DAYLIGHT
DTSTART:20240331T030000
TZOFFSETFROM:+0100
TZOFFSETTO:+0200
TZNAME:CEST
END:DAYLIGHT
END:VTIMEZONE
END:VCALENDAR