BEGIN:VCALENDAR
VERSION:2.0
PRODID:-//wp-events-plugin.com//7.2.3.1//EN
TZID:Europe/Amsterdam
X-WR-TIMEZONE:Europe/Amsterdam
BEGIN:VEVENT
UID:152@duurzaam-beleggen.nl
DTSTART;TZID=Europe/Amsterdam:20220125T153000
DTEND;TZID=Europe/Amsterdam:20220125T170000
DTSTAMP:20211229T083155Z
URL:https://www.duurzaam-beleggen.nl/events/launch-of-the-new-paper-by-the
 -coalition-circular-accounting-virtual/
SUMMARY:Webinar Financial Accounting in the Circular Economy
DESCRIPTION:\n\n‘Accountants en financials bevinden zich in sleutelpositi
 es om de circulaire transitie te versnellen.’ Dat concludeert het brede 
 samenwerkingsverband Coalitie Circulaire Accounting (CCA)\, opgericht door
  Circle Economy i.s.m. de NBA en gesteund door Invest-NL. Op dinsdag 25 ja
 nuari presenteert deze coalitie de uitkomsten op basis van twee jaar onder
 zoek en vier case-studies\, die zijn samengevat in het eindpaper: ‘Finan
 cial Accounting in the Circular Economy - Redefining Value\, Impact\, and 
 Risk to Accelerate the Circular Transition’.\n\n\nDe volgende onderwerpe
 n staan centraal:\n\n 	De huidige boekhoud- en rapportagemethodieken zijn
  ontworpen voor de lineaire (take-make-waste) economie\n 	Deze methodieken
  kennen beperkingen om de waarde en positieve impact van circulaire bedrij
 ven op de samenleving en het milieu vast te leggen\n 	Hoe kunnen we begrip
 pen heroverwegen zoals afschrijving\, om de werkelijke waarde van material
 en weer te geven? Hoe waardeer je 'afval' dat wordt hergebruikt als de bel
 angrijkste grondstof voor een bedrijf?\n 	Waarom worden circulaire bedrijf
 smodellen vaak als risicovoller gezien dan hun lineaire tegenhangers en we
 lke rol speelt accounting om dat te veranderen?\n\nSpeelveld\nNederland wi
 l 100% circulair zijn in 2050\, en in 2030 50% minder grondstoffen verbrui
 ken. De inzichten en aanbevelingen in dit paper richten zich primair op be
 drijven\, op accountants zowel binnen als buiten organisaties\, op financi
 ers en op regelgevende instanties. Deze groepen hebben invloed op een spee
 lveld dat grotere kansen kan bieden voor circulair ondernemen. Dat is nodi
 g om te zorgen dat de grondstoffen waar onze economie – en ons welzijn 
 – van afhangen langer hun waarde behouden: zodat zij niet in het huidige
  tempo uitgeput raken en verworden tot afval.\nCirculaire businesscases\nU
  hoort een samenvatting van de uitdagingen en oplossingen van circulaire b
 usinesscases die een groep experts uit verschillende vakgebieden de afgelo
 pen twee jaar hebben beantwoord. Hoe kunnen waarde\, impact en risico
 ’s zodanig worden beoordeeld dat zichtbaar wordt of circulair onderneme
 n op de lange termijn zijn vruchten afwerpt? En waar kunt u als accountant
  of financial vandaag al mee beginnen? Vanuit verschillende perspectieven 
 gaan we met elkaar hierover in gesprek onder leiding van Rens van Tilburg 
 (Sustainable Finance Lab) tijdens het webinar Financial Accounting in the
  Circular Economy\, op dinsdag 25 januari 2022 van 15.30 tot 17.00 uur.\n\
 nHet nieuwe paper van de CCA wordt voorafgaand aan dit event gepubliceer
 d. De voertaal van het webinar is Engels.\n\nSprekers tijdens dit webinar
  zijn:\n\n 	Rens van Tilburg\, directeur Sustainable Finance Lab (gespreks
 leider)\n 	Kris Douma\, voorzitter NBA (opening)\n 	Guy de Sévaux\, Senio
 r Advisor Circular Economy Invest-NL (opening)\n 	Hans Stegeman\, Chief In
 vestment Strategist Triodos Bank\n 	Usha Ganga\, themaregisseur duurzaamhe
 id NBA\n 	Diane Zandee\, promovendus Nyenrode Business Universiteit en cfo
  Trunkrs\n 	Marleen Janssen Groesbeek\, lector Sustainable Finance &amp\; 
 Accounting Avans Hogeschool\n 	Carl Drenth\, directeur Alfa Accountants en
  Adviseurs Groningen-Assen\n 	Aglaia Fischer\, Finance Initiative Lead Cir
 cle Economy\n 	Marvin Nusseck\, Finance and Metrics Strategist &amp\; Proj
 ect Manager Circle Economy\n\nRegister for free
ATTACH;FMTTYPE=image/jpeg:https://www.duurzaam-beleggen.nl/wordpress/wp-co
 ntent/uploads/2021/12/launch.jpg
CATEGORIES:Professional/Bedrijf
LOCATION:Webinar\, nvt\, Online\, Nederland
X-APPLE-STRUCTURED-LOCATION;VALUE=URI;X-ADDRESS=nvt\, Online\, Nederland;X-
 APPLE-RADIUS=100;X-TITLE=Webinar:geo:0,0
END:VEVENT
BEGIN:VTIMEZONE
TZID:Europe/Amsterdam
X-LIC-LOCATION:Europe/Amsterdam
BEGIN:STANDARD
DTSTART:20211031T020000
TZOFFSETFROM:+0200
TZOFFSETTO:+0100
TZNAME:CET
END:STANDARD
END:VTIMEZONE
END:VCALENDAR