BEGIN:VCALENDAR
VERSION:2.0
PRODID:-//wp-events-plugin.com//7.2.3.1//EN
TZID:Europe/Amsterdam
X-WR-TIMEZONE:Europe/Amsterdam
BEGIN:VEVENT
UID:226@duurzaam-beleggen.nl
DTSTART;TZID=Europe/Amsterdam:20250130T090000
DTEND;TZID=Europe/Amsterdam:20250130T160000
DTSTAMP:20250108T105301Z
URL:https://www.duurzaam-beleggen.nl/events/leaders-in-sustainable-finance
 -event-2025/
SUMMARY:Leaders in Sustainable Finance Event 2025
DESCRIPTION:\n\nIn a world facing unprecedented environmental and social ch
 allenges\, the question is not whether we need change\, it is how fast we 
 can make it happen.\n\nOn January 30th 2025\, Antropia in Driebergen-Zeist
  will host the 3rd edition of the Leaders in Sustainable Finance event. Jo
 in industry pioneers and C-level executives from banking\, insurance and a
 sset management\, gathering to share their bold steps towards an ESG futur
 e. With Twan Huys moderating\, discover essential insights from an amazing
  line-up:\n\n• Karin van Baardwijk – CEO\, Robeco\n• Sandra Phlippen
  – Chief Economist\, ABN AMRO Bank N.V.\n• Annette Mosman - CEO APG\n
 • Jos Baeten – CEO\, a.s.r.\n• Hannah Prins (a.o. columnist Vrij Ned
 erland\,   )\n• Maureen Schlejen-Peeters MBA - CEO\, Achmea Investment M
 anagement\n• Eelco Dubbeling – Managing Director\, Dutch Banking Assoc
 iation\n• Sharon van Herel - Dam – CEO\, Klaverblad Verzekeringen\n•
  Jeroen Rijpkema – CEO\, Triodos Bank\n• Aniek Moonen (a.o. co-host BN
 R\, former chair   )\n• Menno Kooistra – Partner &amp\; Head of ESG FS
 \, KPMG Nederland\n• Faiza Oulahsen – former Greenpeace\, now with KP
 MG Nederland\n• Wim Mijs – CEO\, European Banking Federation\n• Kadi
 r Van Lohuizen - world famous photogrpaher NOOR Images\n\n\n English lang
 uage event\n\n Website and registration: https://lnkd.in/e-he6tmg\n\n
ATTACH;FMTTYPE=image/jpeg:https://www.duurzaam-beleggen.nl/wordpress/wp-co
 ntent/uploads/2025/01/Header-Sustainable-Finance-2025.jpg
CATEGORIES:Professional/Bedrijf
LOCATION:Antropia\, Hoofdstraat 8\, Driebergen\, Nederland
GEO:52.0643341;5.261293300000034
X-APPLE-STRUCTURED-LOCATION;VALUE=URI;X-ADDRESS=Hoofdstraat 8\, Driebergen\
 , Nederland;X-APPLE-RADIUS=100;X-TITLE=Antropia:geo:52.0643341,5.261293300
 000034
END:VEVENT
BEGIN:VTIMEZONE
TZID:Europe/Amsterdam
X-LIC-LOCATION:Europe/Amsterdam
BEGIN:STANDARD
DTSTART:20241027T020000
TZOFFSETFROM:+0200
TZOFFSETTO:+0100
TZNAME:CET
END:STANDARD
END:VTIMEZONE
END:VCALENDAR