BEGIN:VCALENDAR
VERSION:2.0
PRODID:-//wp-events-plugin.com//7.2.3.1//EN
TZID:Europe/Amsterdam
X-WR-TIMEZONE:Europe/Amsterdam
BEGIN:VEVENT
UID:236@duurzaam-beleggen.nl
DTSTART;TZID=Europe/Amsterdam:20260129T090000
DTEND;TZID=Europe/Amsterdam:20260129T143000
DTSTAMP:20251205T105620Z
URL:https://www.duurzaam-beleggen.nl/events/leaders-in-sustainable-finance
 -event-2026/
SUMMARY:Leaders in Sustainable Finance Event 2026
DESCRIPTION:Welcome to the Leaders in Sustainable Finance Event on 29 Janu
 ary 2026 Amsterdam\, Pakhuis de Zwijger. Join the unique gathering of in
 dustry leaders\, including CEOs\, regulators\, top managers and profession
 als in the space. A great opportunity to gain new insights\, engage in tho
 ught-provoking discussions with peers\, and get to know pioneers shaping t
 he future of sustainable finance.\nProgram\n08:00 – 09:00 • Coffee &am
 p\; Registration\n\n09:00 – 09:03 • Special opening\nJeroen van Wijnga
 arden – Director-General\, Dutch Fund and Asset Management Association\n
 \n09:03 – 09:05 • Welcome\nMarcia Luyten – Moderator\n\n09:05 – 09
 :35 • Keynote I ‘Turbulent times’\nJohn McCalla-Leacy – Partner\, 
 Global Head of ESG &amp\; UK ESG Vice Chairman\, KPMG\n\n09:35 – 09:55 
 • Interview I\nBianca Tetteroo – Chair of the Executive Board\, Achmea
 \n\n09:55 – 10:25 • C-Level fireside chat\nMarcel Zuidam – CEO\, Tri
 odos Bank\nCarola van Lamoen – Head of Sustainable Investing &amp\; Mana
 ging Director\, Robeco\n\n10:25 – 11:05 • Coffee &amp\; Refreshments\n
 \n11:05 – 11:25 • Academic duo interview\nProf. Willem Schramade – P
 rofessor of Finance &amp\; Sustainable Investing Advisory\, Nyenrode Busin
 ess University\nProf. Karen Maas – Professor of Accounting &amp\; Sustai
 nability\, Open University &amp\; Director of Impact Centre Erasmus\, Eras
 mus University\n\n11:25 – 11:55 • How can AI drive sustainability? –
  cases\nRoland van der Vorst – Head of Innovation Wholesale &amp\; Rural
 \, Rabobank &amp\; CEO\, Rabo Carbon Bank\nMichel van Leuven – Lead Sust
 ainable Repair\, Nationale- Nederlanden\n\n11:55 – 12:15 • Interview I
 I\nDan Dorner – Member of the Executive Board\, ABN AMRO\n\n12:15 – 12
 :30 • Speech\nLucie Pinson – Founder and Executive Director\, Reclaim 
 Finance\n\n12:30 – 12:50 • Keynote II\nAmbika Jindal – Global Head S
 ystemic Change Accelerator\, ING\n\n12:50 – 13:00 • Future Council\nTr
 ailer of movie – ING\n\n13:00 – 14:30 • Lunch &amp\; Networking\n\nM
 ore information/registration
ATTACH;FMTTYPE=image/jpeg:https://www.duurzaam-beleggen.nl/wordpress/wp-co
 ntent/uploads/2025/12/Tegels-Podcast-nog-niet-definitief-scaled-1.webp
CATEGORIES:Professional/Bedrijf
LOCATION:Pakhuis de Zwijger\, Piet Heinkade 179\, Amsterdam\, Netherlands\,
  1019 HC\, Nederland
GEO:52.376832;4.92208
X-APPLE-STRUCTURED-LOCATION;VALUE=URI;X-ADDRESS=Piet Heinkade 179\, Amsterd
 am\, Netherlands\, 1019 HC\, Nederland;X-APPLE-RADIUS=100;X-TITLE=Pakhuis 
 de Zwijger:geo:52.376832,4.92208
END:VEVENT
BEGIN:VTIMEZONE
TZID:Europe/Amsterdam
X-LIC-LOCATION:Europe/Amsterdam
BEGIN:STANDARD
DTSTART:20251026T020000
TZOFFSETFROM:+0200
TZOFFSETTO:+0100
TZNAME:CET
END:STANDARD
END:VTIMEZONE
END:VCALENDAR