BEGIN:VCALENDAR
VERSION:2.0
PRODID:-//wp-events-plugin.com//7.2.3.1//EN
TZID:Europe/Amsterdam
X-WR-TIMEZONE:Europe/Amsterdam
BEGIN:VEVENT
UID:229@duurzaam-beleggen.nl
DTSTART;TZID=Europe/Amsterdam:20250312T101500
DTEND;TZID=Europe/Amsterdam:20250312T120000
DTSTAMP:20250303T153629Z
URL:https://www.duurzaam-beleggen.nl/events/netwerkochtend-beleggen-in-cle
 an-energy/
SUMMARY:Netwerkochtend beleggen in clean energy
DESCRIPTION:Wil jij met de juiste kennis je portfolio (verder) uitbouwen\, 
 en mede-investeerders en ondernemers van ons platform ontmoeten? Kom dan n
 aar onze maandelijkse meetup voor zakelijke &amp\; particuliere investee
 rders bij DuurzaamInvesteren.nl.\n\n​Iedere sector kent zijn eigen uitda
 gingen\, veranderingen en risico’s. Wil je leren van anderen en kennis u
 itwisselen over beleggen in de energiesector? Samen weet je meer.\n\n​We
  nodigen je graag uit voor de maandelijkse meetup op woensdag 12 maart\,
  9 april of 7 mei\, in het WTC Amsterdam.\n\nKen je mensen in jouw netw
 erk die ook willen investeren in de clean energy sector? Nodig ze gerust u
 it. Een plus één aangeven tijdens het aanmelden is mogelijk.\n\nOnze spr
 eker:\n\n​12 maart| Gridstabilizer.\nGridstabilizer heeft in 2024 succ
 esvol financiering opgehaald voor haar project in Wijkersloot via Duurzaam
 Investeren.nl. Sinds de oprichting in 2021 ontwikkelt en bouwt het bedrijf
  grootschalige elektrische opslagsystemen (EOS’en) om het elektriciteits
 net te balanceren. Door alle onderdelen – van batterijen tot energiemana
 gementsystemen en handelsalgoritmes – in-house te ontwerpen en programme
 ren\, levert Gridstabilizer hoogwaardige en betaalbare oplossingen die vol
 doen aan Europese normen en bijdragen aan een betrouwbare\, schone en beta
 albare energievoorziening. Tijdens dit event vertelt Leo Pullens\, busines
 s developer\, over de nieuwe projecten van Gridstabilizer.\n\nOns portfoli
 o\nVanuit duurzaaminvesteren lichten wij de ontwikkelingen in ons portfoli
 o toe en wat we verwachten in de toekomst.\n\n​Schrijf je in voor 12 maa
 rt via de button bovenaan de pagina. \nBen je niet in de gelegenheid om d
 eel te nemen op 12 maart\, we organiseren deze netwerkochtend tevens op 9
  april en 7 mei.\n\nPraktische informatie\nInloop: 10:15\nStart: 10:30 t
 ot 12:00\nAdres: Strawinskylaan 1755\, Tower 7\, Level 17\, unit C1702\, 1
 077 XX Amsterdam\nBereikbaarheid: Parkeergarage aanwezig. Of per trein\, 
 station Amsterdam Zuid\, op loopafstand\nToegang: gratis voor DuurzaamInv
 esteerders\n\nMeer informatie/aanmelden
ATTACH;FMTTYPE=image/jpeg:https://www.duurzaam-beleggen.nl/wordpress/wp-co
 ntent/uploads/2025/03/unnamed-2025-03-03T163228.840.png
CATEGORIES:Consument/Particulier,Professional/Bedrijf
LOCATION:WTC Amsterdam\, Strawinskylaan 1\, Amsterdam\, 1077 XW \, Nederlan
 d
GEO:52.340449;4.876211
X-APPLE-STRUCTURED-LOCATION;VALUE=URI;X-ADDRESS=Strawinskylaan 1\, Amsterda
 m\, 1077 XW \, Nederland;X-APPLE-RADIUS=100;X-TITLE=WTC Amsterdam:geo:52.3
 40449,4.876211
END:VEVENT
BEGIN:VTIMEZONE
TZID:Europe/Amsterdam
X-LIC-LOCATION:Europe/Amsterdam
BEGIN:STANDARD
DTSTART:20241027T020000
TZOFFSETFROM:+0200
TZOFFSETTO:+0100
TZNAME:CET
END:STANDARD
END:VTIMEZONE
END:VCALENDAR