BEGIN:VCALENDAR
VERSION:2.0
PRODID:-//wp-events-plugin.com//7.2.3.1//EN
TZID:Europe/Amsterdam
X-WR-TIMEZONE:Europe/Amsterdam
BEGIN:VEVENT
UID:231@duurzaam-beleggen.nl
DTSTART;TZID=Europe/Amsterdam:20250703T143000
DTEND;TZID=Europe/Amsterdam:20250703T163000
DTSTAMP:20250603T113331Z
URL:https://www.duurzaam-beleggen.nl/events/seminar-benchmark-verantwoord-
 beleggen-door-verzekeraars-2025/
SUMMARY:Seminar Benchmark verantwoord beleggen door verzekeraars 2025
DESCRIPTION:Graag nodigt de VBDO  u uit voor deelname aan ons seminar Vera
 ntwoord beleggen door verzekeraars 2025.\n\nTijdens het seminar presentere
 n we de belangrijkste resultaten van onze benchmark Responsible Investmen
 t by Insurance Companies in the Netherlands 2025\, met speciale aandacht 
 voor het thema biodiversiteit.\n\nNatuurlijk maken we ook dit jaar weer be
 kend wie onze prestigieuze ranglijst aanvoert van Nederlands' meest duu
 rzaam beleggende verzekeraars.\n\nNB. Registratie voor dit evenement is 
 open en kosteloos voor alle geïnteresseerden\, maar wel verplicht. Meldt 
 u zich tijdig aan: het betreft een fysiek event\, er is dus beperkt plaats
  beschikbaar. Bij registratie wordt er op uw komst gerekend.\n\nRegistrere
 n voor dit seminar\nProgramma\n\n 	14:00 - Inloop\n 	14:30 - Welkomstwoo
 rd | Angélique Laskewitz\, directeur VBDO &amp\; Richard Weurding\, al
 gemeen directeur\, Verbond van Verzekeraars\n 	14:40 - Vermogensbeheer: M
 et gezond boerenverstand Biodiversiteit verbeteren | Madelon Moorlag\, Ma
 nager Vermogensbeheer\, Klaverblad Verzekeringen\n 	15:00 - Van landbouw 
 tot laboratorium: positieve impact op biodiversiteit | Mies Ligtenberg\, 
 Impact Lead\, a.s.r.\n 	15:20 - HEAL alliantie:  foodservicebedrijven be
 wegen om gezondere opties aan te bieden | Frank Wagemans\, Sr. Engagement
  Specialist\, Achmea IM.\n 	15:40 - Duurzame verzekeringsproducten gerich
 t op gezondheid - Scildon\n 	16:00 - Toelichting resultaten benchmark -
  Maarten Busch\, projectmanager benchmark\, VBDO\n 	16:15 - Prijsuitreik
 ing Responsible Investment Awards 2025 - Angélique Laskewitz\, directeur
  VBDO\n 	16:30 - Borrel\n
ATTACH;FMTTYPE=image/jpeg:https://www.duurzaam-beleggen.nl/wordpress/wp-co
 ntent/uploads/2025/06/unnamed-2025-06-03T133002.773.jpg
CATEGORIES:Professional/Bedrijf
LOCATION:Verbond van Verzekeraars\, Bordewijklaan 2\, Den Haag\, 2591 XR\, 
 Nederland
X-APPLE-STRUCTURED-LOCATION;VALUE=URI;X-ADDRESS=Bordewijklaan 2\, Den Haag\
 , 2591 XR\, Nederland;X-APPLE-RADIUS=100;X-TITLE=Verbond van Verzekeraars:
 geo:0,0
END:VEVENT
BEGIN:VTIMEZONE
TZID:Europe/Amsterdam
X-LIC-LOCATION:Europe/Amsterdam
BEGIN:DAYLIGHT
DTSTART:20250330T030000
TZOFFSETFROM:+0100
TZOFFSETTO:+0200
TZNAME:CEST
END:DAYLIGHT
END:VTIMEZONE
END:VCALENDAR