BEGIN:VCALENDAR
VERSION:2.0
PRODID:-//wp-events-plugin.com//7.2.3.1//EN
TZID:Europe/Amsterdam
X-WR-TIMEZONE:Europe/Amsterdam
BEGIN:VEVENT
UID:224@duurzaam-beleggen.nl
DTSTART;TZID=Europe/Amsterdam:20241128T150000
DTEND;TZID=Europe/Amsterdam:20241128T170000
DTSTAMP:20241101T094141Z
URL:https://www.duurzaam-beleggen.nl/events/seminar-investing-in-child-wel
 l-being-in-business-finance/
SUMMARY:Seminar 'Investing in Child Well-being in Business & Finance''
DESCRIPTION:\n\n\n\n\n\n\nVBDO and Unicef are pleased to invite you to our 
 upcoming seminar Investing in Child Well-being in Business &amp\; Finance
 .This seminar helps companies and investors better understand the scope of
  children's well-being within business practices and investment frameworks
 . It will highlight the importance of integrating children's well-being in
 to portfolio screening and management processes.\n\nAdditionally\, the sem
 inar seeks to inspire participants to take meaningful professional action 
 to enhance child well-being through their business operations and stewards
 hip activities.\n\n\n\n\n\n\n\n\n\n\n\n\n\n\nJoin us and register for this
  event now\n\n\n\n\n\n\n\n\n\n\n\n\n\n\n\n\nProgramme (provisional)\n\n 	3
 :00 pm | Introduction | Triodos IM &amp\; VBDO\n 	3:10 pm | Vision on C
 hild Well-Being | Unicef\n 	3:35 pm | Spotlight on Triodos Future Genera
 tions Funds | Triodos IM\n 	4:00 pm | Short break\n 	4:15 pm | Round ta
 ble discussion Roundtable discussion with investors\, companies\, NGOs. T
 he questions focus on the broader impact of business and investment practi
 ces on children's well-being beyond child labour. Key issues affecting chi
 ldren will be explored\, along with examples of companies leading in this 
 area and challenges in adopting a holistic approach to child well-being. A
 dditionally\, the discussion will address how investors can engage to prom
 ote positive impact and invite examples of initiatives that support a bett
 er future for children and the planet. \n 	4:55 pm | Closing remarks\n 	
 5:00 pm | Drinks \n\nREGISTER FOR THIS EVENT\n\n\n\n\n\n\n\n\n
ATTACH;FMTTYPE=image/jpeg:https://www.duurzaam-beleggen.nl/wordpress/wp-co
 ntent/uploads/2024/11/unnamed-2024-11-01T103739.287.jpg
CATEGORIES:Professional/Bedrijf
LOCATION:Triodos Bank Nederland\, Hoofdstraat 10\, Driebergen\, Nederland\,
  3972 LA \, Nederland
GEO:52.063832;5.259451
X-APPLE-STRUCTURED-LOCATION;VALUE=URI;X-ADDRESS=Hoofdstraat 10\, Driebergen
 \, Nederland\, 3972 LA \, Nederland;X-APPLE-RADIUS=100;X-TITLE=Triodos Ban
 k Nederland:geo:52.063832,5.259451
END:VEVENT
BEGIN:VTIMEZONE
TZID:Europe/Amsterdam
X-LIC-LOCATION:Europe/Amsterdam
BEGIN:STANDARD
DTSTART:20241027T020000
TZOFFSETFROM:+0200
TZOFFSETTO:+0100
TZNAME:CET
END:STANDARD
END:VTIMEZONE
END:VCALENDAR