BEGIN:VCALENDAR
VERSION:2.0
PRODID:-//wp-events-plugin.com//7.2.3.1//EN
TZID:Europe/Amsterdam
X-WR-TIMEZONE:Europe/Amsterdam
BEGIN:VEVENT
UID:148@duurzaam-beleggen.nl
DTSTART;TZID=Europe/Amsterdam:20220309T160000
DTEND;TZID=Europe/Amsterdam:20220309T180000
DTSTAMP:20220117T152805Z
URL:https://www.duurzaam-beleggen.nl/events/start-cursus-duurzaam-beleggen
 -2022/
SUMMARY:Start Cursus Duurzaam Beleggen 2022
DESCRIPTION:Je wilt gaan beleggen\, op een duurzame manier. Maar hoe werken
  de financiële markten eigenlijk? En hoe weet je wat duurzaam is? Hoe ont
 leed je het jargon en wat betekenen al die financiële termen? Deze traini
 ng helpt je beleggen te begrijpen\, jouw doelen vast te stellen en jouw du
 urzame beleggingsplan te maken. Zo snap je wat je doet\, en behaal jij het
  duurzame resultaat dat jij beoogt.\nSpeciaal voor lezers van deze portal
  biedt Bewust een korting van 10% op alle drie de varianten van de cursus
 . Je kan deze korting ontvangen door het gebruiken van deze code: duurza
 ambeleggen2022. Dit kan bij het aanmeldformulier ingevuld worden en de ko
 rting wordt afgetrokken van het factuurbedrag.\n\nData 2022 (16:00-18:00)\
 n\n\n\n 	Woensdag 9 maart 2022: Workshop 1: Wat is duurzaamheid?\n 	Woensd
 ag 16 maart 2022: Workshop 2: De basis van beleggen\n 	Woensdag 23 maart 2
 022: Workshop 3: Duurzame beleggingsstrategieën\n 	Woensdag 30 maart 2022
 : Workshop 4: Duurzame dilemma's\n\nMeer informatie/aanmelden\n\n
ATTACH;FMTTYPE=image/jpeg:https://www.duurzaam-beleggen.nl/wordpress/wp-co
 ntent/uploads/2021/12/cursus.jpg
CATEGORIES:Consument/Particulier
LOCATION:Webinar\, nvt\, Online\, Nederland
X-APPLE-STRUCTURED-LOCATION;VALUE=URI;X-ADDRESS=nvt\, Online\, Nederland;X-
 APPLE-RADIUS=100;X-TITLE=Webinar:geo:0,0
END:VEVENT
BEGIN:VTIMEZONE
TZID:Europe/Amsterdam
X-LIC-LOCATION:Europe/Amsterdam
BEGIN:STANDARD
DTSTART:20211031T020000
TZOFFSETFROM:+0200
TZOFFSETTO:+0100
TZNAME:CET
END:STANDARD
END:VTIMEZONE
END:VCALENDAR