BEGIN:VCALENDAR
VERSION:2.0
PRODID:-//wp-events-plugin.com//7.2.3.1//EN
TZID:Europe/Amsterdam
X-WR-TIMEZONE:Europe/Amsterdam
BEGIN:VEVENT
UID:228@duurzaam-beleggen.nl
DTSTART;TZID=Europe/Amsterdam:20250324T000000
DTEND;TZID=Europe/Amsterdam:20250417T000000
DTSTAMP:20250221T090544Z
URL:https://www.duurzaam-beleggen.nl/events/sustainable-finance-month-pwc-
 nederland/
SUMMARY:Sustainable Finance Month PwC Nederland
DESCRIPTION:Van 24 maart tot 17 april heeft PwC de zogenaamde 'Sustainable 
 Finance Month' in de planning\, met 8 events\, met verschillende topics. D
 enk aan: financieren van de energietransitie\, greenwashing\, CSRD\, human
  rights\, ESG &amp\; real estate\, ESG risk management.\n\n 	March 24 | Ex
 clusive round table: Financing the net zero transition. Join policymakers\
 , supervisors\, and financial service organizations for a vibrant discussi
 on on the role and opportunities for the financial sector in financing the
  net zero transformation.\n 	April 7 | Escape room: Unmasking greenwashing
 . Learn to recognize greenwashing and equip yourself with the knowledge an
 d tools to navigate the complex landscape of sustainability.\n 	April 8 | 
 Webinar: Nature transition. Urgent action is needed to halt and reverse th
 e loss of nature\, and the financial sector has an important role to play 
 in this transition.\n 	 April 10 | Breakfast session: Social performance 
 &amp\; strategy. Explore the critical alignment between business value and
  social progress and learn how to implement effective social strategy.\n 	
  April 10 | Hidden impacts of human rights &amp\; environmental due dilig
 ence regulations. Uncover how the evolving regulatory landscape can pose o
 perational\, reputational\, and compliance risks for investee companies\, 
 and learn innovative strategies to future-proof your portfolios.\n 	 Apri
 l 14 | Breakfast session: ESG risk management. Delve into practical strate
 gies for identifying\, measuring\, and managing ESG risks\, and discover b
 est practices for integrating ESG factors into risk management frameworks.
 \n 	 April 15 | Workshop: ESG &amp\; real estate. Unlock the potential of
  sustainability to transform your business strategy and gain insights from
  real-world CSRD implementations in the real estate sector.\n 	 April 17 
 | Webinar: CSRD lessons learned. Get an exclusive look at PwC's analysis 
 of the first round of CSRD reports\, including benchmarking results and as
 surance challenges.\n\nTwee van de events zijn webinars: Nature transition
  en CSRD lessons learned.\n\nZie voor meer info de eventpagina: https://ww
 w.pwc.nl/en/evenementen/sustainable-finance-month.html
ATTACH;FMTTYPE=image/jpeg:https://www.duurzaam-beleggen.nl/wordpress/wp-co
 ntent/uploads/2025/02/Banner-Sustainable-Finance-Month-2025-800x460-1.jpg
CATEGORIES:Professional/Bedrijf
LOCATION:\, \, Nederland
X-APPLE-STRUCTURED-LOCATION;VALUE=URI;X-ADDRESS=\, Nederland;X-APPLE-RADIUS
 =100;X-TITLE=:geo:0,0
END:VEVENT
BEGIN:VTIMEZONE
TZID:Europe/Amsterdam
X-LIC-LOCATION:Europe/Amsterdam
BEGIN:STANDARD
DTSTART:20241027T020000
TZOFFSETFROM:+0200
TZOFFSETTO:+0100
TZNAME:CET
END:STANDARD
BEGIN:DAYLIGHT
DTSTART:20250330T030000
TZOFFSETFROM:+0100
TZOFFSETTO:+0200
TZNAME:CEST
END:DAYLIGHT
END:VTIMEZONE
END:VCALENDAR