BEGIN:VCALENDAR
VERSION:2.0
PRODID:-//wp-events-plugin.com//7.2.3.1//EN
TZID:Europe/Amsterdam
X-WR-TIMEZONE:Europe/Amsterdam
BEGIN:VEVENT
UID:183@duurzaam-beleggen.nl
DTSTART;TZID=Europe/Amsterdam:20221103T123000
DTEND;TZID=Europe/Amsterdam:20221103T173000
DTSTAMP:20221013T073053Z
URL:https://www.duurzaam-beleggen.nl/events/symposium-duurzame-kansen-voor
 -ons-pensioen/
SUMMARY:Symposium - Duurzame kansen voor ons pensioen
DESCRIPTION:Op 3 november 2022 organiseert de CMHF samen met ABP het sympos
 ium Duurzame kansen voor ons pensioen.\n\nDe pensioenfondsen beheren gezam
 enlijk meer dan 1600 miljard euro. De maatschappelijke druk om te verduurz
 amen is groot. De beleggingen in pensioenen worden steeds duurzamer en de 
 meeste pensioenfondsen onderschrijven de klimaatdoelstellingen van Parijs.
  Gaat het streven naar verduurzamen hand in hand met het behalen van een g
 oed rendement? En wat kunnen pensioenfondsen als investeerder nog meer doe
 n om duurzaamheid te stimuleren?\nWaarom dit symposium?\nOm de wereld te v
 erduurzamen\, zijn we afhankelijk van innovatie. Pensioenfondsen kunnen de
 ze innovatie stimuleren. Op 3 november gaan we met elkaar in gesprek over 
 de innovatieve ontwikkelingen die interessant zijn voor pensioenfondsen. I
 nspirerende sprekers delen hun visie en ervaringen op het terrein van leve
 n\, natuur en wonen.\nTU Delft\nAls locatie hebben we de vernieuwende/verf
 rissende omgeving van TU Delft gekozen\, een broedplek van innovatie. Rese
 rveer alvast 3 november vanaf 12.30 uur in uw agenda. Het definitieve prog
 ramma treft u hier aan.\n\nAanmelden voor het symposium kan via deze li
 nk
ATTACH;FMTTYPE=image/jpeg:https://www.duurzaam-beleggen.nl/wordpress/wp-co
 ntent/uploads/2022/09/geld_op.jpg
CATEGORIES:Professional/Bedrijf
LOCATION:TU Delft\, Van der Waalsweg 1 \, Delft\, Nederland\, Nederland
GEO:52.000899;4.375595
X-APPLE-STRUCTURED-LOCATION;VALUE=URI;X-ADDRESS=Van der Waalsweg 1 \, Delft
 \, Nederland\, Nederland;X-APPLE-RADIUS=100;X-TITLE=TU Delft:geo:52.000899
 ,4.375595
END:VEVENT
BEGIN:VTIMEZONE
TZID:Europe/Amsterdam
X-LIC-LOCATION:Europe/Amsterdam
BEGIN:STANDARD
DTSTART:20221030T020000
TZOFFSETFROM:+0200
TZOFFSETTO:+0100
TZNAME:CET
END:STANDARD
END:VTIMEZONE
END:VCALENDAR