BEGIN:VCALENDAR
VERSION:2.0
PRODID:-//wp-events-plugin.com//7.2.3.1//EN
TZID:Europe/Amsterdam
X-WR-TIMEZONE:Europe/Amsterdam
BEGIN:VEVENT
UID:214@duurzaam-beleggen.nl
DTSTART;TZID=Europe/Amsterdam:20240416T110000
DTEND;TZID=Europe/Amsterdam:20240416T170000
DTSTAMP:20240314T085042Z
URL:https://www.duurzaam-beleggen.nl/events/symposium-hoe-kan-de-financiee
 l-professional-de-wereld-redden/
SUMMARY:Symposium ‘Hoe kan de financieel professional de wereld redden?'
DESCRIPTION:Niet alleen grote bedrijven\, maar ook het mkb krijgt steeds me
 er te maken met veranderingen door nieuwe wetgeving gericht op duurzaamhei
 d (denk aan de CSRD en de Wbk). Dit stelt het mkb voor grote uitdagingen. 
 Biedt die nieuwe wetgeving misschien juist ook kansen voor een meer toekom
 stbestendige bedrijfsvoering? En welke sleutelrol kunnen de accountant\, d
 e controller en de financieel adviseur hierbij spelen? HAN organiseert hie
 rover het symposium ‘Hoe kan de financieel professional de wereld redden
 ?'\n\nEen klinkend palet aan sprekers en workshop-experts!\n\n► Het symp
 osium start met twee keynotesprekers die hun licht laten schijnen op duur
 zaamheid in relatie tot financieel professionals\, en CSRD in relatie tot 
 integrated thinking\, control en reporting\, auditing en advice. Met trots
  verwelkomen we:\n\n 	Prof. dr. Jan Jonker | emeritus hoogleraar Duurzaam
  Ondernemen aan de Radboud Universiteit Nijmegen\n 	Prof. dr. René Orij 
 | hoogleraar duurzaamheidsverslaggeving aan Nyenrode Business Universiteit
 \n\n► Daarna zijn er vier workshops (twee naar keuze te volgen): \n\n 	
 Impact van de accountant bij verduurzaming van het mkb a.d.h.v. het maatsc
 happelijk jaarverslag o.l.v. dr. Marlies de Vries RA\n 	Impact van de int
 egraal adviseur bij verduurzaming van het mkb o.l.v. dr. Maaike Lycklama 
 à Nijeholt\n 	CSRD in relatie tot integrated thinking\, control &amp\; re
 porting o.l.v. drs. Vera Moll\n 	Business ethics voor de finance professi
 onal o.l.v. prof. dr. mr. Marcel Pheijffer\n\nN.B. Voor leden van het RB 
 en NBA: het symposium telt mee voor PE-punten/PE-portfolio.\n\nKortom: een
  symposium boordevol inspiratie en interactie voor elke financial die aan 
 de slag wil met het thema 'toekomstbestendigheid'.\n\n\n\nJa\, ik meld me 
 gratis aan!\n\n
ATTACH;FMTTYPE=image/jpeg:https://www.duurzaam-beleggen.nl/wordpress/wp-co
 ntent/uploads/2024/03/unnamed-96.jpg
CATEGORIES:Professional/Bedrijf
LOCATION:HAN Arnhem\, Ruitenberglaan 31\, Arnhem\, Nederland
GEO:51.989016;5.949408
X-APPLE-STRUCTURED-LOCATION;VALUE=URI;X-ADDRESS=Ruitenberglaan 31\, Arnhem\
 , Nederland;X-APPLE-RADIUS=100;X-TITLE=HAN Arnhem:geo:51.989016,5.949408
END:VEVENT
BEGIN:VTIMEZONE
TZID:Europe/Amsterdam
X-LIC-LOCATION:Europe/Amsterdam
BEGIN:DAYLIGHT
DTSTART:20240331T030000
TZOFFSETFROM:+0100
TZOFFSETTO:+0200
TZNAME:CEST
END:DAYLIGHT
END:VTIMEZONE
END:VCALENDAR