BEGIN:VCALENDAR
VERSION:2.0
PRODID:-//wp-events-plugin.com//7.2.3.1//EN
TZID:Europe/Amsterdam
X-WR-TIMEZONE:Europe/Amsterdam
BEGIN:VEVENT
UID:161@duurzaam-beleggen.nl
DTSTART;TZID=Europe/Amsterdam:20220419T090000
DTEND;TZID=Europe/Amsterdam:20220419T170000
DTSTAMP:20220316T072357Z
URL:https://www.duurzaam-beleggen.nl/events/training-duurzaamheid-waardere
 n-bij-taxaties-commercieel-vastgoed/
SUMMARY:Training - Duurzaamheid waarderen bij taxaties commercieel vastgoed
DESCRIPTION:Duurzaamheid wordt steeds belangrijker in de waardebepaling van
  vastgoed. Zo stellen steeds meer banken en andere financiers duurzaamheid
 seisen bij de financieringsoverwegingen van commercieel vastgoed en kiezen
  ook beleggers\, ontwikkelaars en huurders steeds vaker voor een duurzaam 
 gebouw. Maar wat is nu echt het effect op de waarde van het gebouw? En hoe
  verdisconteer je duurzaamheid in de marktwaarde? Tijdens deze training sp
 eciaal voor taxateurs leer je er meer over en krijg je praktische handvatt
 en voor het waarderen van duurzaamheid in het taxatieproces en de opname i
 n het taxatierapport.\n\nNa de training\n\n 	Ken je relevante huidige en t
 oekomstige nationale en internationale wetgeving met betrekking tot de duu
 rzaamheid van gebouwen\;\n 	Heb je een brede basis over duurzaamheidsonder
 werpen in de bouw- en vastgoedsector\, die verder gaan dan alleen energie\
 ; (Paris Proof\, ESG &amp\; Circulair)\n 	Weet je welke duurzame parameter
 s in\, aan en om gebouwen een rol spelen bij de waardering van gebouwen\;\
 n 	Weet je welke onderwerpen en indicatoren van belang zijn in de bepaling
  van de duurzaamheid van gebouwen\;\n 	Kun je gegevens over de duurzaamhei
 d van gebouwen interpreteren en verwerken in het taxatierapport.\n\nLocati
 e\nDe training vindt plaats in één van de meest duurzame gebouwen van Ne
 derland: Hotel Jakarta in Amsterdam. Een omgeving die voldoende inspirat
 ie biedt om de leerstof naar de praktijk te vertalen. Daarom is een rondle
 iding door dit hotel ook onderdeel van de training.\nVoor wie?\nDeze train
 ing is bestemd voor taxateurs van commercieel vastgoed.\nDocenten\n\n 	Iri
 s Kampers\, ESG and sustainability lead\, Savills\n 	Martijn Onderstal\, H
 ead of Valuation\, Valuation\, Savills\n 	Peter Gabriëls\, Senior Project
 manager Dutch Green Building Council (DGBC)\n\nMeer informatie/aanmelden\n
ATTACH;FMTTYPE=image/jpeg:https://www.duurzaam-beleggen.nl/wordpress/wp-co
 ntent/uploads/2022/03/vastgoed_dgbc.jpg
CATEGORIES:Professional/Bedrijf
LOCATION:Hotel Jakarta\, Javakade 766\, Amsterdam\, Nederland
GEO:52.379387;4.922463
X-APPLE-STRUCTURED-LOCATION;VALUE=URI;X-ADDRESS=Javakade 766\, Amsterdam\, 
 Nederland;X-APPLE-RADIUS=100;X-TITLE=Hotel Jakarta:geo:52.379387,4.922463
END:VEVENT
BEGIN:VTIMEZONE
TZID:Europe/Amsterdam
X-LIC-LOCATION:Europe/Amsterdam
BEGIN:DAYLIGHT
DTSTART:20220327T030000
TZOFFSETFROM:+0100
TZOFFSETTO:+0200
TZNAME:CEST
END:DAYLIGHT
END:VTIMEZONE
END:VCALENDAR