BEGIN:VCALENDAR
VERSION:2.0
PRODID:-//wp-events-plugin.com//7.2.3.1//EN
TZID:Europe/Amsterdam
X-WR-TIMEZONE:Europe/Amsterdam
BEGIN:VEVENT
UID:150@duurzaam-beleggen.nl
DTSTART;TZID=Europe/Amsterdam:20220117T123000
DTEND;TZID=Europe/Amsterdam:20220117T170000
DTSTAMP:20211207T111752Z
URL:https://www.duurzaam-beleggen.nl/events/training-introductie-esg-regel
 geving-sfdr-eu-taxonomy-module-1-financiele-instellingen/
SUMMARY:Training 'Introductie ESG-regelgeving SFDR & EU Taxonomy (Module 1/
 Financiële instellingen)'
DESCRIPTION:Nieuwe duurzaamheidsregelgeving voor uw financiële sector: wet
 en waar u staat en wat u nog moet doen\n\nOver verslagjaar 2022 moet u al 
 aan steeds meer Europese regelgeving voldoen om uw claims te staven\, zoal
 s de EU taxonomy. En dit gaat verder in 2023 met de Corporate Sustainabili
 ty Reporting Directive (CSRD) of de Non-Financial Reporting Directive (NFR
 D). Deze regels raken uzelf en uw hele supply chain\, waaronder uw financi
 ering. Kortom: ook u heeft al te maken met (EU-)duurzaamheidsbeleid op de 
 thema’s Environmental\, Social en Governance (ESG).\n\nWaar moet u start
 en?\nMet deze training krijgt u zicht op de context en inhoud van de belan
 grijkste regelgeving die uw organisatie raakt. Ook krijgt u inzicht in de 
 impact ervan op uw organisatie: welke risico’s en kansen zijn er voor uw
  strategie\, bedrijfsvoering en reporting\, en hoe bepaalt u de belangrijk
 ste eerste stappen?\n\nNa deze introductiemodule kunt u dieper inzoomen op
  hoe u SFDR- &amp\; EU Taxonomy-regelgeving doorvoert in uw strategie\, be
 drijfsvoering en reporting. De vervolgmodules zijn momenteel in ontwikkeli
 ng en worden binnenkort aan het aanbod op onze website toegevoegd.\n\nVoor
  wie?\n\n\n\n\n\n\nDirectie en boardleden\, CFO\, Sustainability officer +
  team van organisaties in de financiële sector\, verantwoordelijken voor 
 ESG regulations.\n\nMeer informatie en aanmelden\n\n\n\n\n
ATTACH;FMTTYPE=image/jpeg:https://www.duurzaam-beleggen.nl/wordpress/wp-co
 ntent/uploads/2021/12/pwc_training.jpg
CATEGORIES:Professional/Bedrijf
LOCATION:PwC Utrecht\, Newtonlaan 205\, Utrecht\, 3584 BH\, Nederland
GEO:52.090489;5.147802
X-APPLE-STRUCTURED-LOCATION;VALUE=URI;X-ADDRESS=Newtonlaan 205\, Utrecht\, 
 3584 BH\, Nederland;X-APPLE-RADIUS=100;X-TITLE=PwC Utrecht:geo:52.090489,5
 .147802
END:VEVENT
BEGIN:VTIMEZONE
TZID:Europe/Amsterdam
X-LIC-LOCATION:Europe/Amsterdam
BEGIN:STANDARD
DTSTART:20211031T020000
TZOFFSETFROM:+0200
TZOFFSETTO:+0100
TZNAME:CET
END:STANDARD
END:VTIMEZONE
END:VCALENDAR