BEGIN:VCALENDAR
VERSION:2.0
PRODID:-//wp-events-plugin.com//7.2.3.1//EN
TZID:Europe/Amsterdam
X-WR-TIMEZONE:Europe/Amsterdam
BEGIN:VEVENT
UID:216@duurzaam-beleggen.nl
DTSTART;TZID=Europe/Amsterdam:20240627T144500
DTEND;TZID=Europe/Amsterdam:20240627T170000
DTSTAMP:20240522T100958Z
URL:https://www.duurzaam-beleggen.nl/events/vbdos-agm-engagement-seminar-2
 024/
SUMMARY:VBDO's AGM engagement seminar 2024
DESCRIPTION:Met veel plezier nodigt de VBDO u uit voor VBDO’s AGM Engagem
 ent Seminar 2024\, dat na het succes van verleden jaren\, wederom zal plaa
 tsvinden bij BNP Paribas\, te Amsterdam.\n\nTijdens het seminar brengen we
  u op de hoogte van de belangrijkste resultaten van ons bezoek aan de aand
 eelhoudersvergaderingen\, van enkele tientallen van Nederlands' grootste b
 edrijven.\n\nWe geven u scherp inzicht in recente ontwikkelingen en best 
 practices\, gerelateerd aan de drie ESG-thema’s van dit jaar\; biodiver
 siteit\, lobbyen en leefbaar loon. Na afloop is er alle gelegenheid voor p
 ersoonlijke\, onderlinge kennismaking.\n\nNB. Registratie voor dit eveneme
 nt is open en kosteloos voor alle geïnteresseerden\, maar wel verplicht. 
 Meldt u zich tijdig aan: het betreft een fysiek event\, er is dus beperkt 
 plaats beschikbaar!\n\nAanmelden
ATTACH;FMTTYPE=image/jpeg:https://www.duurzaam-beleggen.nl/wordpress/wp-co
 ntent/uploads/2024/05/vb.jpg
CATEGORIES:Professional/Bedrijf
LOCATION:BNP Paribas\, Herengracht 59\, Amsterdam\, 1017 CE\, Nederland
GEO:52.377957;4.891227
X-APPLE-STRUCTURED-LOCATION;VALUE=URI;X-ADDRESS=Herengracht 59\, Amsterdam\
 , 1017 CE\, Nederland;X-APPLE-RADIUS=100;X-TITLE=BNP Paribas:geo:52.377957
 ,4.891227
END:VEVENT
BEGIN:VTIMEZONE
TZID:Europe/Amsterdam
X-LIC-LOCATION:Europe/Amsterdam
BEGIN:DAYLIGHT
DTSTART:20240331T030000
TZOFFSETFROM:+0100
TZOFFSETTO:+0200
TZNAME:CEST
END:DAYLIGHT
END:VTIMEZONE
END:VCALENDAR