BEGIN:VCALENDAR
VERSION:2.0
PRODID:-//wp-events-plugin.com//7.2.3.1//EN
TZID:Europe/Amsterdam
X-WR-TIMEZONE:Europe/Amsterdam
BEGIN:VEVENT
UID:222@duurzaam-beleggen.nl
DTSTART;TZID=Europe/Amsterdam:20241126T150000
DTEND;TZID=Europe/Amsterdam:20241126T170000
DTSTAMP:20240925T072835Z
URL:https://www.duurzaam-beleggen.nl/events/vbdos-seminar-verantwoord-bele
 ggen-door-pensioenfondsen/
SUMMARY:VBDO's seminar Verantwoord beleggen door pensioenfondsen
DESCRIPTION:Met veel plezier kondigt VBDO de publicatie en presentatie aan 
 van de VBDO Benchmark Responsible Investment by Pension Funds in the Nethe
 rlands 2024.\n\n2024 Markeert een belangrijk jaar - de overkoepelende filo
 sofie van het onderzoek is verbeterd van het vermogen zo duurzaam mogelij
 k beleggen naar duurzaamheid realiseren met het vermogen.\n\nDe invullin
 g en methodiek hebben daarbij de nodige aanpassingen ondergaan\, in consul
 tatie met de pensioensector. We gaan hier tijdens het seminar graag verder
  op in en presenteren direct de resultaten van het onderzoek.\n\nNatuurlij
 k is er ook weer ruimte voor de feestelijke uitreikingen van de prijzen vo
 or de best presterende fondsen!\n\n\n\n\n\n\n\n\n\nProgramma\n\n 	15.00: 
 Opening | Angélique Laskewitz\, directeur VBDO\n 	15.10: Focus op klima
 at en sociale gevolgen | Piet Rietman\, dagelijks bestuur\, FNV\n 	15.30:
  Key note | Erik Huizing\, uitvoerend bestuurder\, Ahold Delhaize Pensio
 en\n 	15.50: Key note | Michelle Ummels\, Toezichthouder specialist (foc
 us op ESG risico's)\, DNB\n 	16.10: Toelichting verbeterde benchmark meth
 odiek en proces | Jacqueline Duiker\, sr. Manager Sustainability\, VBDO\n
  	16.25: Belangrijkste resultaten pensioenfondsenbenchmark en uitreikinge
 n best presterende fondsen | Sara Heinsbroek\, projectmanager benchmark\n
  	16.45- Afsluiting &amp\; borrel\n\n\n\n\n\n\n\n\n\nNu registreren voor
  het seminar
ATTACH;FMTTYPE=image/jpeg:https://www.duurzaam-beleggen.nl/wordpress/wp-co
 ntent/uploads/2021/10/geld_fnv.jpg
CATEGORIES:Professional/Bedrijf
LOCATION:Stichting De Burcht\, Henri Polaklaan 9\, Amsterdam\, 1018 CP\, Ne
 derland
GEO:52.36804;4.910751
X-APPLE-STRUCTURED-LOCATION;VALUE=URI;X-ADDRESS=Henri Polaklaan 9\, Amsterd
 am\, 1018 CP\, Nederland;X-APPLE-RADIUS=100;X-TITLE=Stichting De Burcht:ge
 o:52.36804,4.910751
END:VEVENT
BEGIN:VTIMEZONE
TZID:Europe/Amsterdam
X-LIC-LOCATION:Europe/Amsterdam
BEGIN:STANDARD
DTSTART:20241027T020000
TZOFFSETFROM:+0200
TZOFFSETTO:+0100
TZNAME:CET
END:STANDARD
END:VTIMEZONE
END:VCALENDAR