BEGIN:VCALENDAR
VERSION:2.0
PRODID:-//wp-events-plugin.com//7.2.3.1//EN
TZID:Europe/Amsterdam
X-WR-TIMEZONE:Europe/Amsterdam
BEGIN:VEVENT
UID:156@duurzaam-beleggen.nl
DTSTART;TZID=Europe/Amsterdam:20220210T150000
DTEND;TZID=Europe/Amsterdam:20220210T160000
DTSTAMP:20220201T072514Z
URL:https://www.duurzaam-beleggen.nl/events/webinar-circular-finance-innov
 ation/
SUMMARY:Webinar 'Circular finance innovation'
DESCRIPTION:In dit webinar kun je (online) meepraten over het onderwerp 'Ci
 rcular finance innovation' in een online sessie met vooraanstaande Sustain
 able Fin-tech experts uit heel Europa. Dit webinar is een vervolg op het o
 nlangs verschenen whitepaper Circular Service Finance: Innovating Finance 
 for the Circular Service Economy.\n\nTijdens de sessie spreken Elisa Achte
 rberg\, auteur van de whitepaper en SFL-directeur Rens van Tilburg met Cec
 ilia Repinski\, CEO van Green Assets Wallet en Manuel Born\, mede-oprichte
 r van Payactive. Samen bespreken ze hoe business en finance er in de circu
 laire toekomst uit moeten zien. Ze zullen de routekaart uittekenen die ons
  daarheen zal leiden\, met behulp van de tools die we vandaag tot onze bes
 chikking hebben.\n\nAanmelden en meer informatie
ATTACH;FMTTYPE=image/jpeg:https://www.duurzaam-beleggen.nl/wordpress/wp-co
 ntent/uploads/2021/12/circulair-scaled.jpg
CATEGORIES:Professional/Bedrijf
LOCATION:Webinar\, nvt\, Online\, Nederland
X-APPLE-STRUCTURED-LOCATION;VALUE=URI;X-ADDRESS=nvt\, Online\, Nederland;X-
 APPLE-RADIUS=100;X-TITLE=Webinar:geo:0,0
END:VEVENT
BEGIN:VTIMEZONE
TZID:Europe/Amsterdam
X-LIC-LOCATION:Europe/Amsterdam
BEGIN:STANDARD
DTSTART:20211031T020000
TZOFFSETFROM:+0200
TZOFFSETTO:+0100
TZNAME:CET
END:STANDARD
END:VTIMEZONE
END:VCALENDAR