BEGIN:VCALENDAR
VERSION:2.0
PRODID:-//wp-events-plugin.com//7.2.3.1//EN
TZID:Europe/Amsterdam
X-WR-TIMEZONE:Europe/Amsterdam
BEGIN:VEVENT
UID:218@duurzaam-beleggen.nl
DTSTART;TZID=Europe/Amsterdam:20240710T123000
DTEND;TZID=Europe/Amsterdam:20240710T131500
DTSTAMP:20240627T092808Z
URL:https://www.duurzaam-beleggen.nl/events/webinar-de-basis-van-duurzaam-
 beleggen/
SUMMARY:Webinar  ‘De basis van (duurzaam) beleggen’!
DESCRIPTION:Op woensdag 10 juli van 12.30 tot 13.15 uur geeft Stan&amp\;Wen
 de een lunchwebinar met als onderwerp: ‘De basis van (duurzaam) beleggen
 ’!\nWaarom dit onderwerp?\nBij verreweg de meeste relaties die wij sprek
 en is de eerste vraag: Wat is dat eigenlijk: beleggen? En hoe werkt dat? W
 at zijn de mogelijkheden en risico’s? We hebben het heel vaak over deze 
 vragen in gesprekken en webinars\, maar eigenlijk niet echt over het compl
 ete verhaal van ‘de basis van beleggen’. Dat gaan we in dit webinar we
 l doen! Super zinvol voor zowel wie nieuw is in de beleggingswereld\, als 
 mensen die al langer beleggen.\nWaar gaan we het over hebben?\n\n 	Wat is 
 beleggen?\n 	Wat zijn aandelen\, obligaties en microkredieten?\n 	Hoe comb
 ineer je verschillende soorten beleggingen in een portefeuille?\n 	Wat zij
 n de verschillen in grijze en groene beleggingen?\n 	Hoe zit het met rende
 menten en risico’s op korte en lange termijn?\n 	Wat is het verschil tus
 sen speculeren en beleggen?\n 	Welke keuzes maakt Stan&amp\;Wende?\n\nNou\
 , genoeg stof om je lunch mee te vullen lijkt ons! In drie kwartier nemen 
 we je graag mee in dit boeiende verhaal! Weer een webinar om absoluut te b
 lokken in je agenda. Dus schrijf je hieronder direct in\, dan ben je verze
 kerd van je online plek!\n\nNB: kun je er niet live bij zijn? Jammer\, maa
 r schrijf je wel in! We maken namelijk altijd een opname die we na het web
 inar met je delen.\n\nGratis aanmelden\n\n&nbsp\;
ATTACH;FMTTYPE=image/jpeg:https://www.duurzaam-beleggen.nl/wordpress/wp-co
 ntent/uploads/2024/06/bannerstan.jpg
CATEGORIES:Consument/Particulier
LOCATION:Webinar\, nvt\, Online\, Nederland
X-APPLE-STRUCTURED-LOCATION;VALUE=URI;X-ADDRESS=nvt\, Online\, Nederland;X-
 APPLE-RADIUS=100;X-TITLE=Webinar:geo:0,0
END:VEVENT
BEGIN:VTIMEZONE
TZID:Europe/Amsterdam
X-LIC-LOCATION:Europe/Amsterdam
BEGIN:DAYLIGHT
DTSTART:20240331T030000
TZOFFSETFROM:+0100
TZOFFSETTO:+0200
TZNAME:CEST
END:DAYLIGHT
END:VTIMEZONE
END:VCALENDAR