BEGIN:VCALENDAR
VERSION:2.0
PRODID:-//wp-events-plugin.com//7.2.3.1//EN
TZID:Europe/Amsterdam
X-WR-TIMEZONE:Europe/Amsterdam
BEGIN:VEVENT
UID:184@duurzaam-beleggen.nl
DTSTART;TZID=Europe/Amsterdam:20221103T110000
DTEND;TZID=Europe/Amsterdam:20221103T120000
DTSTAMP:20221021T073744Z
URL:https://www.duurzaam-beleggen.nl/events/webinar-duurzaam-beleggen-bij-
 bright/
SUMMARY:Webinar Duurzaam beleggen bij Bright
DESCRIPTION:Steeds meer mensen beseffen zich dat je geld dat bedoeld is om 
 jouw toekomst veilig te stellen\, niet in zaken moet investeren die diezel
 fde toekomst in gevaar brengen. BrightPensioen in elk geval wel. Onze ambi
 tie is dan ook om de meest duurzame pensioenaanbieder van Nederland te zij
 n.\n\nMaar het ene duurzaam is het andere niet. En er zijn verschillende n
 iveaus van duurzaam beleggen. Gelukkig is er inmiddels nieuwe wet- en rege
 lgeving voor financiële instellingen. Zodat je tussen de groene bomen bet
 er het bos kunt zien. Iedere partij die duurzaam belegt\, moet dit aan gaa
 n tonen. Wij nemen alvast het voortouw (onder andere met ons nieuwe duurz
 aamheidsverslag).\nWat komt er aan bod?\nIn dit webinar vertellen we jou o
 ver duurzaam beleggen en onze groene beleggingen. Je hoort meer over:\n\n 
 	Wat is duurzaam beleggen?\n 	Wie bepaalt of controleert wat duurzaam is?\
 n 	Hoeveel verschilt duurzaam beleggen van gewoon beleggen?\n 	Wat levert 
 het op?\n 	Waarin belegt BrightPensioen?\n 	Welke keuzes worden er gemaakt
  en waarom?\n\nVoor wie is het webinar?\nVoor iedereen die meer willen wet
 en over duurzaam beleggen\, BrightPensioen en onze duurzame beleggingen.\
 n\nGratis aanmelden kan op deze pagina\n\n
ATTACH;FMTTYPE=image/jpeg:https://www.duurzaam-beleggen.nl/wordpress/wp-co
 ntent/uploads/2022/10/webinar_bright.jpg
CATEGORIES:Consument/Particulier
LOCATION:Webinar\, nvt\, Online\, Nederland
X-APPLE-STRUCTURED-LOCATION;VALUE=URI;X-ADDRESS=nvt\, Online\, Nederland;X-
 APPLE-RADIUS=100;X-TITLE=Webinar:geo:0,0
END:VEVENT
BEGIN:VTIMEZONE
TZID:Europe/Amsterdam
X-LIC-LOCATION:Europe/Amsterdam
BEGIN:STANDARD
DTSTART:20221030T020000
TZOFFSETFROM:+0200
TZOFFSETTO:+0100
TZNAME:CET
END:STANDARD
END:VTIMEZONE
END:VCALENDAR