BEGIN:VCALENDAR
VERSION:2.0
PRODID:-//wp-events-plugin.com//7.2.3.1//EN
TZID:Europe/Amsterdam
X-WR-TIMEZONE:Europe/Amsterdam
BEGIN:VEVENT
UID:151@duurzaam-beleggen.nl
DTSTART;TZID=Europe/Amsterdam:20220111T200000
DTEND;TZID=Europe/Amsterdam:20220111T210000
DTSTAMP:20211220T095713Z
URL:https://www.duurzaam-beleggen.nl/events/webinar-duurzaam-beleggen-in-2
 022-vooruitzichten-en-top-5-aandelen/
SUMMARY:Webinar: Duurzaam beleggen in 2022 – Vooruitzichten en top 5 aand
 elen
DESCRIPTION:Ondanks de angst voor grote economische problemen door de coron
 amaatregelen\, is het jaar 2021 een goed jaar geweest voor beleggers. Aan 
 het einde van het jaar vragen we ons natuurlijk af of 2022 weer zo een goe
 d beursjaar wordt. In dit webinar worden de onderwerpen benoemd waar beleg
 gers rekening mee moeten houden in het aankomende jaar.\n\nWil je meer wet
 en over de vooruitzichten voor beleggers in 2022? Schrijf je dan nu in voo
 r ons gratis webinar! In een uur praten we je bij over prognoses\, verwach
 tingen en belangrijke gebeurtenissen in het nieuwe jaar.\n\n\n\n\nOver de 
 spreker\n\nDrs. Loege Schilder RBA\n\nLoege belegt sinds zijn tienerjaren 
 en heeft van zijn passie zijn beroep gemaakt. Eerst als optiehandelaar op 
 de beursvloer en daarna als vermogensbeheerder. De door hem opgerichte bed
 rijven Care IS en Axento vermogensbeheer werden 3 keer gekozen als beste v
 ermogensbeheerder.\n\nTegenwoordig is Loege beleggingscoach en trainer. Hi
 j is geregeld te gast op BNR-nieuwsradio en schrijft artikelen voor Belegg
 er.nl\, Fiscalert\, IEX.nl en Telegraaf Media Groep.\n\nGratis aanmelden
ATTACH;FMTTYPE=image/jpeg:https://www.duurzaam-beleggen.nl/wordpress/wp-co
 ntent/uploads/2021/12/Webinar-Duurzaam-Beleggen-in-2022.png
CATEGORIES:Consument/Particulier
LOCATION:Webinar\, nvt\, Online\, Nederland
X-APPLE-STRUCTURED-LOCATION;VALUE=URI;X-ADDRESS=nvt\, Online\, Nederland;X-
 APPLE-RADIUS=100;X-TITLE=Webinar:geo:0,0
END:VEVENT
BEGIN:VTIMEZONE
TZID:Europe/Amsterdam
X-LIC-LOCATION:Europe/Amsterdam
BEGIN:STANDARD
DTSTART:20211031T020000
TZOFFSETFROM:+0200
TZOFFSETTO:+0100
TZNAME:CET
END:STANDARD
END:VTIMEZONE
END:VCALENDAR