BEGIN:VCALENDAR
VERSION:2.0
PRODID:-//wp-events-plugin.com//7.2.3.1//EN
TZID:Europe/Amsterdam
X-WR-TIMEZONE:Europe/Amsterdam
BEGIN:VEVENT
UID:211@duurzaam-beleggen.nl
DTSTART;TZID=Europe/Amsterdam:20240227T123000
DTEND;TZID=Europe/Amsterdam:20240227T131500
DTSTAMP:20240122T151808Z
URL:https://www.duurzaam-beleggen.nl/events/webinar-duurzame-outlook-voor-
 2024/
SUMMARY:Webinar 'Duurzame Outlook voor 2024'
DESCRIPTION:Dit webinar-jaar begint Stan &amp\; Wende meteen goed met een b
 ijzonder lunch webinar op dinsdag 27 februari van 12.30 tot 13.15 uur. We 
 kijken nog even terug op 2023\, maar vooral blikken we vooruit op wat dit 
 nog redelijk nieuwe jaar 2024 ons gaat brengen. Een ‘outlook’ noemen
  we dat in de beleggingswereld. En dan natuurlijk op het gebied van duurza
 am beleggen.\n\n2023 was zoals bekend een goed beursjaar. In onze vorige n
 ieuwsbrief zijn we daar al op ingegaan. De meningen over de ontwikkelingen
  in 2024 zijn verdeeld. Hoe gaan "wij van Stan&amp\;Wende" hier dit jaar m
 ee om in de beleggingsportefeuilles?\n\nMaar met afstand het belangrijkste
  onderdeel van dit webinar is onze gastspreker. We hebben weer een bijzond
 ere en inspirerende persoonlijkheid gevonden voor je: San Lie!\nWie is San
  Lie?\nHij is directievoorzitter van ASN Impact Investors en verantwoordel
 ijk voor Marketing &amp\; Sales en Portfoliomanagement. Daarvoor werkte hi
 j in verschillende managementfuncties op het gebied van duurzaamheid en be
 leggingsdienstverlening. Hij publiceert regelmatig in vakbladen\, en in in
 terviews spreekt hij zich duidelijk en opvallend uit.“De belangrijkste k
 limaatactie komt van buiten de A12”\n\n“Of het nu gaat om het gebruik 
 van onze natuurlijke hulpbronnen\, intensieve veeteelt\, ontbossing of uit
 buiting van werknemers: we moeten veranderen voor een duurzame toekomst”
 \n\n\n“Waarom kunnen er niet meer CEO’s opstaan en hun noodzakelijke\,
  duurzame voortrekkersrol oppakken”\n\nWe laten ons dus bijpraten door e
 en echte expert op zowel beleggings- als duurzaam gebied. Hij neemt ons op
  zijn eigen bijzondere manier mee in zijn beleving van duurzaamheid\, niet
  alleen in beleggen\, maar ook in ons gedrag en emoties.\nWaarom deze aans
 prekende gastspreker?\nASN Impact Investors belegt in bedrijven\, overhede
 n en projecten die mens\, dier en natuur respecteren. Die goede financiël
 e resultaten en verwachtingen hebben en die – net als wij – vooruitkij
 ken. Wij hebben dan ook meerdere ASN-beleggingsfondsen in onze portefeuill
 es.\n\nHet zal je duidelijk zijn dat we ook in dit webinar ruimschoots de 
 tijd zullen nemen voor interactie met San Lie. Je inbreng wordt dus zeer g
 ewaardeerd!\n\nMeld je gratis aan!
ATTACH;FMTTYPE=image/jpeg:https://www.duurzaam-beleggen.nl/wordpress/wp-co
 ntent/uploads/2024/01/Afbeelding-Portaal-Duurzaam-Beleggen.png
CATEGORIES:Consument/Particulier
LOCATION:Webinar\, nvt\, Online\, Nederland
X-APPLE-STRUCTURED-LOCATION;VALUE=URI;X-ADDRESS=nvt\, Online\, Nederland;X-
 APPLE-RADIUS=100;X-TITLE=Webinar:geo:0,0
END:VEVENT
BEGIN:VTIMEZONE
TZID:Europe/Amsterdam
X-LIC-LOCATION:Europe/Amsterdam
BEGIN:STANDARD
DTSTART:20231029T020000
TZOFFSETFROM:+0200
TZOFFSETTO:+0100
TZNAME:CET
END:STANDARD
END:VTIMEZONE
END:VCALENDAR