BEGIN:VCALENDAR
VERSION:2.0
PRODID:-//wp-events-plugin.com//7.2.3.1//EN
TZID:Europe/Amsterdam
X-WR-TIMEZONE:Europe/Amsterdam
BEGIN:VEVENT
UID:160@duurzaam-beleggen.nl
DTSTART;TZID=Europe/Amsterdam:20220331T100000
DTEND;TZID=Europe/Amsterdam:20220331T113000
DTSTAMP:20220316T071307Z
URL:https://www.duurzaam-beleggen.nl/events/webinar-eu-taxonomie-eisen-aan
 kopen-en-bezitten-van-woningen-en-andere-gebouwen/
SUMMARY:Webinar - EU Taxonomie: eisen aankopen en bezitten van woningen en 
 andere gebouwen
DESCRIPTION:Wat betekent de EU Taxonomie voor aankooptrajecten en het eigen
 dom van woningen en andere gebouwen? Welke criteria gelden er en waar dien
  je op te letten als je ‘groene’ gebouwen voor de uitbreiding van je v
 astgoedportefeuille wil verwerven? Hoe werken vastgoedbeleggers toe naar 
 ‘groene’ fondsen? Deze en meer vragen komen aan bod in een webinar dat
  DGBC op 31 maart aanstaande organiseert. Het is het tweede webinar in ee
 n reeks DGBC-kennissessies over de ‘EU Taxonomie en de impact op de bouw
 - en vastgoedsector’.\n\nWat is de EU Taxonomie?\nHoe groen zijn jouw in
 vesteringen nu echt? Dat is de centrale vraag bij de zogenoemde EU Taxonom
 ie die op 1 januari 2022 is ingegaan. De nieuwe spelregels van de EU komen
  voort uit de Europese Green Deal en ze stimuleren dat kapitaal naar werke
 lijk groene investeringen stroomt. Ook voorkomen ze indirect ‘greenwashi
 ng’\, want Europa wil dat alle grotere financiële instellingen gaan rap
 porteren over het groene gehalte van hun investeringen.\nReeks kennissessi
 es\nDGBC krijgt veel vragen over de consequenties voor de bouw- en vastgoe
 dsector. Daarom organiseren we een serie kennissessies waarin we de meest 
 prangende vragen behandelen. De serie is gestart met een introductie op de
  EU taxonomie en de gevolgen voor de bouw- en vastgoedsector. Tijdens dit 
 webinar gingen diverse sprekers in op de werking\, impact en uitdagingen v
 an de EU Taxonomie. Kijk hier het webinar terug of bekijk de meest gest
 elde vragen.\nMet medewerking van\n• Peter Gabriëls – Senior Projectm
 anager DGBC\n\n• Arjan van Eijk – Head of Sustainability Colliers\n\n
 • Piet Hein Schram – Consultant Energy Efficient Mortgages NL Hub ( EE
 M-NL Hub)\n\n• Martijn Vlasveld – Director Portfolio Management CBRE I
 nvestment Management\n\nGratis aanmelden
ATTACH;FMTTYPE=image/jpeg:https://www.duurzaam-beleggen.nl/wordpress/wp-co
 ntent/uploads/2021/06/eu_tax.jpg
CATEGORIES:Professional/Bedrijf
LOCATION:Webinar\, nvt\, Online\, Nederland
X-APPLE-STRUCTURED-LOCATION;VALUE=URI;X-ADDRESS=nvt\, Online\, Nederland;X-
 APPLE-RADIUS=100;X-TITLE=Webinar:geo:0,0
END:VEVENT
BEGIN:VTIMEZONE
TZID:Europe/Amsterdam
X-LIC-LOCATION:Europe/Amsterdam
BEGIN:DAYLIGHT
DTSTART:20220327T030000
TZOFFSETFROM:+0100
TZOFFSETTO:+0200
TZNAME:CEST
END:DAYLIGHT
END:VTIMEZONE
END:VCALENDAR