BEGIN:VCALENDAR
VERSION:2.0
PRODID:-//wp-events-plugin.com//7.2.3.1//EN
TZID:Europe/Amsterdam
X-WR-TIMEZONE:Europe/Amsterdam
BEGIN:VEVENT
UID:153@duurzaam-beleggen.nl
DTSTART;TZID=Europe/Amsterdam:20220127T100000
DTEND;TZID=Europe/Amsterdam:20220127T110000
DTSTAMP:20211223T082618Z
URL:https://www.duurzaam-beleggen.nl/events/webinar-eu-taxonomy-zijn-jouw-
 investeringen-in-vastgoed-echt-groen/
SUMMARY:Webinar - EU Taxonomy: zijn jouw investeringen in vastgoed echt gro
 en?
DESCRIPTION:Hoe groen zijn je investeringen nu echt? Dat is de centrale vra
 ag bij de zogenoemde EU Taxonomie die op 1 januari 2022 ingaat. De nieu
 we spelregels van de EU komen voort uit de Europese Green Deal en moete
 n ‘greenwashing’ voorkomen. Vastgoedbeleggers zullen net als andere 
 financiële partijen moeten rapporteren in hoeverre zij voldoen aan de EU 
 Taxonomie. DGBC krijgt veel vragen over de consequenties voor de bouw- en 
 vastgoedsector. Tijdens dit webinar gaan we in op de meest prangende vrag
 en en vertellen we over onze plannen om de taxonomy te concretiseren voor 
 de bouw- en vastgoedsector. \n\nWat is het?\nDe EU Taxonomie bevat een 
 classificatiesysteem waarmee investeerders en bedrijven kunnen aangeven we
 lke investeringen wel en niet duurzaam zijn\, en op welke milieudoelen dez
 e impact hebben.\n\nNaast generieke eisen voor alle lidstaten worden ook 
 eisen gesteld die naar de nationale omstandigheden vertaald moet word
 en. DGBC zal zich in 2022 gaan inzetten om deze lokale vertaling te mak
 en in samenwerking met partners.\nMet medewerking van:\n\n 	Stephan de Bie
  – Programmamanager Duurzaamheid bij Vesteda\n 	Peter Gabriels - Senior 
 Projectmanager DGBC\n 	Daniël Poolen – Senior Energy Transition Specia
 list bij Rabobank\n 	Piet Hein Schram - Consultant bij Energy Efficient M
 ortgages NL Hub\n 	Annemarie van Doorn - Directeur DGBC (voorzitter)\n\nAa
 nmelden\nStuur een mail naar: events@dgbc.nl met de vermelding: EU Taxon
 omie.\n\n
ATTACH;FMTTYPE=image/jpeg:https://www.duurzaam-beleggen.nl/wordpress/wp-co
 ntent/uploads/2021/12/vastgoed.jpg
CATEGORIES:Professional/Bedrijf
LOCATION:Webinar\, nvt\, Online\, Nederland
X-APPLE-STRUCTURED-LOCATION;VALUE=URI;X-ADDRESS=nvt\, Online\, Nederland;X-
 APPLE-RADIUS=100;X-TITLE=Webinar:geo:0,0
END:VEVENT
BEGIN:VTIMEZONE
TZID:Europe/Amsterdam
X-LIC-LOCATION:Europe/Amsterdam
BEGIN:STANDARD
DTSTART:20211031T020000
TZOFFSETFROM:+0200
TZOFFSETTO:+0100
TZNAME:CET
END:STANDARD
END:VTIMEZONE
END:VCALENDAR