BEGIN:VCALENDAR
VERSION:2.0
PRODID:-//wp-events-plugin.com//7.2.3.1//EN
TZID:Europe/Amsterdam
X-WR-TIMEZONE:Europe/Amsterdam
BEGIN:VEVENT
UID:147@duurzaam-beleggen.nl
DTSTART;TZID=Europe/Amsterdam:20211126T100000
DTEND;TZID=Europe/Amsterdam:20211126T113000
DTSTAMP:20211122T131033Z
URL:https://www.duurzaam-beleggen.nl/events/webinar-het-grote-geld-en-klim
 aat/
SUMMARY:Webinar 'Het grote geld en klimaat'
DESCRIPTION:De rol van de financiële sector in de klimaataanpak kwam regel
 matig aan de orde op de klimaattop in Glasgow. De transitie heeft een vers
 chuiving nodig van grote wereldwijde geldstromen van fossiel naar fossielv
 rij.\n\nTwee jaar terug ondertekende de Nederlandse financiële sector als
  eerste het Klimaatakkoord. Daarmee committeerde 3000 miljard euro aan ver
 mogen zich aan terugdringen van CO2-uitstoot. Onlangs kwam de tweede voort
 gangsrapportage. Bijna 90 procent van de ondertekenaars heeft het CO2-geha
 lte van financieringen en beleggingen in kaart. Iets meer dan de helft hee
 ft een actieplan om bij te dragen aan de doelen van Parijs.\n\nVoortgang c
 ommitment\nIn deze online talkshow bespreken we met betrokkenen bij de ban
 ken en de pensioensector de voortgang van het commitment. We hebben het ov
 er de ups and downs die de sector tegenkomt op weg naar het nakomen van de
  afspraken.\n\nGaat het hard genoeg\nWe praten ook met kenners van de fina
 nciële sector over de klimaatinspanningen van de sector. Gaat de transiti
 e hard genoeg? Hebben de Nederlandse inspanningen impact? Hoe diep zit de 
 energietransitie in de genen van de sector?\n\nImpact afscheid fossiele in
 vesteringen\nOok beschouwen we de ontwikkeling waarbij grote fondsen als h
 et ABP openlijk afscheid nemen van beleggingen in fossiele energie. Een tr
 end die door Glasgow sterker lijkt te worden. Verandert er echt iets of st
 appen minder betrokken beleggers in het gat en blijft wereldwijd alles zoa
 ls het was?\nSprekers\n\n 	Ed Nijpels\, Voorzitter\, Voortgangsoverleg Kli
 maatakkoord\n 	Femke de Vries\, Voorzitter\, Commissie financiële sector 
 klimaatcommitment\n 	Willem Schramade\, consultant duurzame financiering\n
  	Richard Kooloos\, Director Group Sustainability \, ABN Amro\n 	Hiske Art
 s\, Coördinator ABP-Fossielvrij\n 	Vertegenwoordiger\, Pensioensector\n 	
 Meer sprekers volgen snel\n\nGratis aanmelden
ATTACH;FMTTYPE=image/jpeg:https://www.duurzaam-beleggen.nl/wordpress/wp-co
 ntent/uploads/2021/11/unnamed-2021-11-17T135354.133.jpg
CATEGORIES:Professional/Bedrijf
LOCATION:Webinar\, nvt\, Online\, Nederland
X-APPLE-STRUCTURED-LOCATION;VALUE=URI;X-ADDRESS=nvt\, Online\, Nederland;X-
 APPLE-RADIUS=100;X-TITLE=Webinar:geo:0,0
END:VEVENT
BEGIN:VTIMEZONE
TZID:Europe/Amsterdam
X-LIC-LOCATION:Europe/Amsterdam
BEGIN:STANDARD
DTSTART:20211031T020000
TZOFFSETFROM:+0200
TZOFFSETTO:+0100
TZNAME:CET
END:STANDARD
END:VTIMEZONE
END:VCALENDAR