BEGIN:VCALENDAR
VERSION:2.0
PRODID:-//wp-events-plugin.com//7.2.3.1//EN
TZID:Europe/Amsterdam
X-WR-TIMEZONE:Europe/Amsterdam
BEGIN:VEVENT
UID:157@duurzaam-beleggen.nl
DTSTART;TZID=Europe/Amsterdam:20220301T110000
DTEND;TZID=Europe/Amsterdam:20220301T120000
DTSTAMP:20220216T121725Z
URL:https://www.duurzaam-beleggen.nl/events/webinar-how-to-get-started-wit
 h-climate-investing/
SUMMARY:Webinar 'How to get started with climate investing'
DESCRIPTION:The need to transition our economy from excessive fossil fuel d
 ependency to a net-zero economy is here. It has created the largest econom
 ic and planetary value creation opportunity in the coming century.\n\nFirs
 t movers have already joined in on this investment opportunity\, and this 
 webinar will detail how you can too.\n\nSit down with Jacqueline van den E
 nde\, CEO of Carbon Equity\, and Liza Rubinstein\, Chief Impact Officer of
  Carbon Equity\, to gain foundational knowledge on how you can best get st
 arted with climate investing. Plus\, they will host a live Q&amp\;A to ans
 wer any of your questions.\n\nSign up for this webinar to discover:\n\n&#x
 1f9d7\; The climate and decarbonization challenge in front of us\n&#x1f6e0
 \; The huge need for innovation and capital in climate tech\, and how to u
 nlock them\n&#x1f4a1\; What is the climate impact of investors in private 
 versus public markets\n\nRegister for free via LinkedIn
ATTACH;FMTTYPE=image/jpeg:https://www.duurzaam-beleggen.nl/wordpress/wp-co
 ntent/uploads/2022/02/1644943476210.png
CATEGORIES:Consument/Particulier
LOCATION:Webinar\, nvt\, Online\, Nederland
X-APPLE-STRUCTURED-LOCATION;VALUE=URI;X-ADDRESS=nvt\, Online\, Nederland;X-
 APPLE-RADIUS=100;X-TITLE=Webinar:geo:0,0
END:VEVENT
BEGIN:VTIMEZONE
TZID:Europe/Amsterdam
X-LIC-LOCATION:Europe/Amsterdam
BEGIN:STANDARD
DTSTART:20211031T020000
TZOFFSETFROM:+0200
TZOFFSETTO:+0100
TZNAME:CET
END:STANDARD
END:VTIMEZONE
END:VCALENDAR