BEGIN:VCALENDAR
VERSION:2.0
PRODID:-//wp-events-plugin.com//7.2.3.1//EN
TZID:Europe/Amsterdam
X-WR-TIMEZONE:Europe/Amsterdam
BEGIN:VEVENT
UID:215@duurzaam-beleggen.nl
DTSTART;TZID=Europe/Amsterdam:20240523T110000
DTEND;TZID=Europe/Amsterdam:20240523T120000
DTSTAMP:20240513T072047Z
URL:https://www.duurzaam-beleggen.nl/events/webinar-investeren-in-climate-
 tech-voor-impact-en-rendement/
SUMMARY:Webinar 'Investeren in climate tech voor impact én rendement'
DESCRIPTION:We zijn in transitie naar een klimaatneutrale economie. Dit bie
 dt een van de grootste investeringskansen van onze generatie. Een kans voo
 r u om mee te groeien met de pioneers van morgen.\n\nCarbon Equity organis
 eert op 23 mei een Nederlandstalig webinar\, waarin we ingaan op hoe impac
 t en rendement elkaar kunnen versterken en hoe u gebruik kunt maken van de
 ze investeringskans.\n\nTijdens de webinar vertellen Liza Rubinstein\, Hea
 d of Impact\, en Rikkert Beerekamp\, Head of Professional Solutions\, over
 :\n\n 	Waarom klimaattechnologie bedrijven juist nu een groei doormaken\;\
 n 	Hoe private equity fondsen een interessante toevoeging zijn aan uw port
 folio\;\n 	Het risico- en rendementsprofiel van impact investeringen\;\n 	
 Hoe u deel kunt nemen aan onze fondsen.\n\nOok krijgt u gelegenheid om dir
 ect vragen aan het panel te stellen. Kortom\, een unieke kans dus om meer 
 te leren over de meest urgente en kansrijke investeringsmogelijkheid van o
 nze generatie.\n\nGratis aanmelden\n\nKunt u er niet bij zijn? Geen zorgen
 \, meld u aan en ontvang na afloop van de webinar de opnames.
ATTACH;FMTTYPE=image/jpeg:https://www.duurzaam-beleggen.nl/wordpress/wp-co
 ntent/uploads/2024/05/ctech.jpeg
CATEGORIES:Consument/Particulier,Professional/Bedrijf
LOCATION:Webinar\, nvt\, Online\, Nederland
X-APPLE-STRUCTURED-LOCATION;VALUE=URI;X-ADDRESS=nvt\, Online\, Nederland;X-
 APPLE-RADIUS=100;X-TITLE=Webinar:geo:0,0
END:VEVENT
BEGIN:VTIMEZONE
TZID:Europe/Amsterdam
X-LIC-LOCATION:Europe/Amsterdam
BEGIN:DAYLIGHT
DTSTART:20240331T030000
TZOFFSETFROM:+0100
TZOFFSETTO:+0200
TZNAME:CEST
END:DAYLIGHT
END:VTIMEZONE
END:VCALENDAR