BEGIN:VCALENDAR
VERSION:2.0
PRODID:-//wp-events-plugin.com//7.2.3.1//EN
TZID:Europe/Amsterdam
X-WR-TIMEZONE:Europe/Amsterdam
BEGIN:VEVENT
UID:140@duurzaam-beleggen.nl
DTSTART;TZID=Europe/Amsterdam:20210923T163000
DTEND;TZID=Europe/Amsterdam:20210923T173000
DTSTAMP:20210907T095310Z
URL:https://www.duurzaam-beleggen.nl/events/webinar-oikocredit-how-do-we-m
 easure-impact/
SUMMARY:Webinar Oikocredit: ''How do we measure impact?'
DESCRIPTION:This online event is intended for investors\, volunteers and st
 aff of Oikocredit support associations.\n\nJoin us for an online event wit
 h three colleagues from Oikocredit International to learn more about how O
 ikocredit aims to increase its impact\, how it measures impact and what we
  do with the data.\n\nSpeakers will be:\n\n 	Mirjam 't Lam\, Oikocredit In
 terim Managing Director\n 	Barbara Rademaker\, Oikocredit Global Agricultu
 re Specialist\n 	Kawien Ziedses des Plantes\, Oikocredit Global Social Per
 formance Specialist\n\nSubscribe here
ATTACH;FMTTYPE=image/jpeg:https://www.duurzaam-beleggen.nl/wordpress/wp-co
 ntent/uploads/2021/09/webinar_o.jpg
CATEGORIES:Professional/Bedrijf
LOCATION:Webinar\, nvt\, Online\, Nederland
X-APPLE-STRUCTURED-LOCATION;VALUE=URI;X-ADDRESS=nvt\, Online\, Nederland;X-
 APPLE-RADIUS=100;X-TITLE=Webinar:geo:0,0
END:VEVENT
BEGIN:VTIMEZONE
TZID:Europe/Amsterdam
X-LIC-LOCATION:Europe/Amsterdam
BEGIN:DAYLIGHT
DTSTART:20210328T030000
TZOFFSETFROM:+0100
TZOFFSETTO:+0200
TZNAME:CEST
END:DAYLIGHT
END:VTIMEZONE
END:VCALENDAR