BEGIN:VCALENDAR
VERSION:2.0
PRODID:-//wp-events-plugin.com//7.2.3.1//EN
TZID:Europe/Amsterdam
X-WR-TIMEZONE:Europe/Amsterdam
BEGIN:VEVENT
UID:180@duurzaam-beleggen.nl
DTSTART;TZID=Europe/Amsterdam:20221011T200000
DTEND;TZID=Europe/Amsterdam:20221011T210000
DTSTAMP:20220921T071915Z
URL:https://www.duurzaam-beleggen.nl/events/webinar-ook-jouw-pensioen-duur
 zaam-geregeld-voor-31-12-2/
SUMMARY:Webinar: 'Ook jouw pensioen duurzaam geregeld voor 31/12?'
DESCRIPTION:In deze maanden zijn veel mensen bezig met hun pensioen. Allerl
 ei vragen komen dan op waar je graag een antwoord op wilt hebben\, zoals:\
 n\n 	Hoeveel heb ik nodig voor later?\n 	Hoeveel kan ik fiscaal vriendelij
 k storten? En hoe doe ik dat?\n 	Is pensioen eigenlijk hetzelfde als lijfr
 ente of banksparen?\n 	En mijn gouden handdruk\, wat kan ik daar mee?\n 	W
 at verandert er voor pensioenen volgend jaar?\n 	Waar haal ik het beste re
 ndement? En kan dat ook in duurzame beleggingen?\n 	Hoe flexibel is dit\, 
 waar zit ik aan vast?\n 	Hoe zit dat met uitkeren? En als ik dood ga\, hoe
  werkt het dan?\n 	Kan ik overstappen van banksparen of met een polis? Kan
  ik hier hulp bij krijgen?\n\nKortom: genoeg vragen om een webinar mee te 
 vullen! Stan &amp\; Wende organiseert daarom een speciaal pensioenwebinar 
 op dinsdagavond 11 oktober van 20.00 tot 21.00 uur.\n\nWelke vragen heb ji
 j hierover? Stel ze gerust van tevoren bij je aanmelding. Tijdens het webi
 nar nemen we ruim de tijd om live alle vragen te beantwoorden.\n\nOktober 
 lijkt misschien wat vroeg voor een pensioenwebinar. Maar door er nu mee aa
 n de slag te gaan (eventueel samen met je adviseur)\, hebben we voldoende 
 tijd om jouw pensioen nog voor het eind van dit jaar te regelen.\n\nNatuur
 lijk maken we ook van dit webinar een opname. Als je dus 11 oktober niet k
 unt: schrijf je toch in\, dan krijg je namelijk de link van dit speciale w
 ebinar later in je mailbox.\n\nJa\, ik ben er graag bij op 11 oktober!\n\n
 &nbsp\;
ATTACH;FMTTYPE=image/jpeg:https://www.duurzaam-beleggen.nl/wordpress/wp-co
 ntent/uploads/2020/02/stan.jpg
CATEGORIES:Consument/Particulier
LOCATION:Webinar\, nvt\, Online\, Nederland
X-APPLE-STRUCTURED-LOCATION;VALUE=URI;X-ADDRESS=nvt\, Online\, Nederland;X-
 APPLE-RADIUS=100;X-TITLE=Webinar:geo:0,0
END:VEVENT
BEGIN:VTIMEZONE
TZID:Europe/Amsterdam
X-LIC-LOCATION:Europe/Amsterdam
BEGIN:DAYLIGHT
DTSTART:20220327T030000
TZOFFSETFROM:+0100
TZOFFSETTO:+0200
TZNAME:CEST
END:DAYLIGHT
END:VTIMEZONE
END:VCALENDAR