BEGIN:VCALENDAR
VERSION:2.0
PRODID:-//wp-events-plugin.com//7.2.3.1//EN
TZID:Europe/Amsterdam
X-WR-TIMEZONE:Europe/Amsterdam
BEGIN:VEVENT
UID:143@duurzaam-beleggen.nl
DTSTART;TZID=Europe/Amsterdam:20211028T120000
DTEND;TZID=Europe/Amsterdam:20211028T124500
DTSTAMP:20211006T073615Z
URL:https://www.duurzaam-beleggen.nl/events/webinar-ook-jouw-pensioen-duur
 zaam-geregeld-voor-31-12/
SUMMARY:Webinar 'Ook jouw pensioen duurzaam geregeld voor 31/12?'
DESCRIPTION:In deze maanden zijn veel mensen bezig met hun pensioen. Allerl
 ei vragen komen dan op waar je graag een antwoord op wilt hebben\, zoals:\
 n\n 	Hoeveel heb ik nodig voor later?\n 	Hoeveel kan ik fiscaal vriendelij
 k storten? En hoe doe ik dat?\n 	Is pensioen eigenlijk hetzelfde als lijfr
 ente of banksparen?\n 	Waar haal ik het beste rendement?\n 	Kan dat ook in
  duurzame beleggingen?\n 	Hoe flexibel is dit\, waar zit ik aan vast?\n 	H
 oe zit dat met uitkeren? En als ik dood ga\, hoe werkt het dan?\n 	Kan ik 
 overstappen van banksparen of met een polis?\n 	Kan ik hulp krijgen bij he
 t regelen van mijn pensioen?\n\nKortom: genoeg vragen om een webinar mee 
 te vullen! Dat doet Stan&amp\;Wende dan ook met een speciale lunchsessie o
 p donderdag 28 oktober van 12.00 tot 12.45 uur. Dan hebben we voldoende ti
 jd om jouw pensioen nog voor het eind van dit jaar te regelen.\n\nGratis a
 anmelden
ATTACH;FMTTYPE=image/jpeg:https://www.duurzaam-beleggen.nl/wordpress/wp-co
 ntent/uploads/2020/02/stan.jpg
CATEGORIES:Consument/Particulier,Professional/Bedrijf
LOCATION:Webinar\, nvt\, Online\, Nederland
X-APPLE-STRUCTURED-LOCATION;VALUE=URI;X-ADDRESS=nvt\, Online\, Nederland;X-
 APPLE-RADIUS=100;X-TITLE=Webinar:geo:0,0
END:VEVENT
BEGIN:VTIMEZONE
TZID:Europe/Amsterdam
X-LIC-LOCATION:Europe/Amsterdam
BEGIN:DAYLIGHT
DTSTART:20210328T030000
TZOFFSETFROM:+0100
TZOFFSETTO:+0200
TZNAME:CEST
END:DAYLIGHT
END:VTIMEZONE
END:VCALENDAR