BEGIN:VCALENDAR
VERSION:2.0
PRODID:-//wp-events-plugin.com//7.2.3.1//EN
TZID:Europe/Amsterdam
X-WR-TIMEZONE:Europe/Amsterdam
BEGIN:VEVENT
UID:167@duurzaam-beleggen.nl
DTSTART;TZID=Europe/Amsterdam:20220426T150000
DTEND;TZID=Europe/Amsterdam:20220426T161500
DTSTAMP:20220414T074634Z
URL:https://www.duurzaam-beleggen.nl/events/webinar-shifting-to-a-net-zero
 -portfolio/
SUMMARY:Webinar 'Shifting to a net-zero portfolio'
DESCRIPTION:NN IP is working fervently to meet the goals and commitments th
 at will help limit global climate change. Join us on 26 April at 15:00 CET
  to get practical insights on choosing investments and constructing portfo
 lios that make a positive impact. You will get a glimpse ‘behind the sce
 nes’ to see how asset managers and asset owners are already working toge
 ther\, building the business case for net-zero portfolios. This will inclu
 de the real live case study of NN IP and NN Group\, including how we made 
 this happen\, the joint set-up required and how the partnership works in p
 ractice. During this live interactive event\, we would like to open the fl
 oor for questions from our audience. You will have the opportunity to subm
 it your question or concern which may be addressed by the panel. You can f
 ind a link to submit these in the confirmation email you receive after sig
 ning up.\nAgenda\n\n 	How to implement and run a net-zero portfolio\n 	Wha
 t challenges and difficult choices institutional investors face\n 	Why doe
 s engagement and dialogue make such a big difference\n 	Real live case stu
 dy of NN IP and NN Group\n 	Submit your question/concern which may be addr
 essed\n\nSpeakers\n\n 	Nathalie van Toren\, Responsible Investment and Cli
 mate Lead at NN Group\n 	Adrie Heinsbroek\, Chief Sustainability Officer\n
  	Edith Siermann\, Head of Fixed Income &amp\; Responsible Investing\n\nMo
 re information/register
ATTACH;FMTTYPE=image/jpeg:https://www.duurzaam-beleggen.nl/wordpress/wp-co
 ntent/uploads/2017/01/windmolens_koolzaad.jpg
CATEGORIES:Professional/Bedrijf
LOCATION:Webinar\, nvt\, Online\, Nederland
X-APPLE-STRUCTURED-LOCATION;VALUE=URI;X-ADDRESS=nvt\, Online\, Nederland;X-
 APPLE-RADIUS=100;X-TITLE=Webinar:geo:0,0
END:VEVENT
BEGIN:VTIMEZONE
TZID:Europe/Amsterdam
X-LIC-LOCATION:Europe/Amsterdam
BEGIN:DAYLIGHT
DTSTART:20220327T030000
TZOFFSETFROM:+0100
TZOFFSETTO:+0200
TZNAME:CEST
END:DAYLIGHT
END:VTIMEZONE
END:VCALENDAR