BEGIN:VCALENDAR
VERSION:2.0
PRODID:-//wp-events-plugin.com//7.2.3.1//EN
TZID:Europe/Amsterdam
X-WR-TIMEZONE:Europe/Amsterdam
BEGIN:VEVENT
UID:164@duurzaam-beleggen.nl
DTSTART;TZID=Europe/Amsterdam:20220324T110000
DTEND;TZID=Europe/Amsterdam:20220324T120000
DTSTAMP:20220317T134102Z
URL:https://www.duurzaam-beleggen.nl/events/webinar-why-you-should-be-exci
 ted-about-the-climate-private-equity-opportunity/
SUMMARY:Webinar - "Why you should be excited about the Climate private equi
 ty opportunity"
DESCRIPTION:Climate private equity has seen an unprecedented rise over the 
 past 2 years — buoyed by an increasing sense of urgency to accelerate th
 e energy transition\, a rise of corporate and government net zero commitme
 nts\, and breakout successes of climate tech companies like Solugen\, Form
  Energy\, Aurora Solar and Rivian.\n\nThere's been 35 climate tech unicorn
 s in the last two years! "The next 1\,000 unicorns are going to be climate
  tech\," said Larry Fink\, CEO of BlackRock.\n\nFirst movers have already 
 joined in on the climate private equity opportunity\, and this webinar wil
 l detail how you can too.\n\n\n\nSit down with the Carbon Equity private e
 quity experts Jacqueline van den Ende\, Co-founder and CEO\, Wiebe Visser\
 , Senior Investment Advisor\, and Bas van Beijeren\, Investment Manager\, 
 to discover:\n\n&#x1f5fa\; The macro-economic perspective of climate inves
 ting (it’s massive!)\n&#x26a1\;&#xfe0f\; The emergence and growth of cli
 mate tech investing as a discipline\n&#x1f4cd\; Deep insights into the cli
 mate venture capital and growth equity landscape\n&#x1f4ca\; The risk\, re
 turn and cah flow profile of climate funds\n&#x267b\;&#xfe0f\; How to asse
 ss greenwashing versus actual impact\n\n&nbsp\;\n\nRegister for free via L
 inkedIn
ATTACH;FMTTYPE=image/jpeg:https://www.duurzaam-beleggen.nl/wordpress/wp-co
 ntent/uploads/2022/03/1646983449164.png
CATEGORIES:Professional/Bedrijf
LOCATION:Webinar\, nvt\, Online\, Nederland
X-APPLE-STRUCTURED-LOCATION;VALUE=URI;X-ADDRESS=nvt\, Online\, Nederland;X-
 APPLE-RADIUS=100;X-TITLE=Webinar:geo:0,0
END:VEVENT
BEGIN:VTIMEZONE
TZID:Europe/Amsterdam
X-LIC-LOCATION:Europe/Amsterdam
BEGIN:STANDARD
DTSTART:20211031T020000
TZOFFSETFROM:+0200
TZOFFSETTO:+0100
TZNAME:CET
END:STANDARD
END:VTIMEZONE
END:VCALENDAR