BEGIN:VCALENDAR
VERSION:2.0
PRODID:-//wp-events-plugin.com//7.2.3.1//EN
TZID:Europe/Amsterdam
X-WR-TIMEZONE:Europe/Amsterdam
BEGIN:VEVENT
UID:129@duurzaam-beleggen.nl
DTSTART;TZID=Europe/Amsterdam:20210610T150000
DTEND;TZID=Europe/Amsterdam:20210610T160000
DTSTAMP:20210603T112122Z
URL:https://www.duurzaam-beleggen.nl/events/webinar-zo-beleggen-wij-bright
 /
SUMMARY:Webinar: Zo beleggen wij Bright
DESCRIPTION:Sparen voor de toekomst is verleden tijd. Een goed pensioen kri
 jg je met sparen niet bij elkaar. Vandaar dat alle pensioeninstellingen 
 – waaronder BrightPensioen– beleggen. Maar je wilt natuurlijk geen sla
 peloze nachten over je zorgeloze oude dag.\n\nDaarom is het slim\, om slim
  en duurzaam te beleggen. In dit webinar van max. een uurtje leggen wij jo
 u uit hoe dit werkt.\n\n\n\nOver het webinar\n\nIn het webinar leggen wij 
 onze beleggingsstrategie uit. We gaan in op de psychologie van beleggen\, 
 op de risico’s van beleggen en hoe je die zo goed mogelijk kunt beheerse
 n.\n\nDaarnaast gaan we in op duurzaam beleggen. Wat is duurzaam beleggen?
  Wie bepaalt of controleert wat duurzaam is? Hoe verschillen de rendemente
 n van duurzaam beleggen ten opzichte van niet-duurzaam beleggen?\n\nHet ko
 mt allemaal aan bod en natuurlijk is er voldoende ruimte om je vragen te s
 tellen.\n\nGratis aanmelden
ATTACH;FMTTYPE=image/jpeg:https://www.duurzaam-beleggen.nl/wordpress/wp-co
 ntent/uploads/2021/06/web10.jpg
CATEGORIES:Consument/Particulier
LOCATION:Webinar\, nvt\, Online\, Nederland
X-APPLE-STRUCTURED-LOCATION;VALUE=URI;X-ADDRESS=nvt\, Online\, Nederland;X-
 APPLE-RADIUS=100;X-TITLE=Webinar:geo:0,0
END:VEVENT
BEGIN:VTIMEZONE
TZID:Europe/Amsterdam
X-LIC-LOCATION:Europe/Amsterdam
BEGIN:DAYLIGHT
DTSTART:20210328T030000
TZOFFSETFROM:+0100
TZOFFSETTO:+0200
TZNAME:CEST
END:DAYLIGHT
END:VTIMEZONE
END:VCALENDAR